BEGIN:VCALENDAR
VERSION:2.0
PRODID:-//Events | FID-Recht//NONSGML Events//EN
CALSCALE:GREGORIAN
X-ORIGINAL-URL:https://events.intrecht.de/termine/
X-WR-CALDESC:Events | FID-Recht - Events
BEGIN:VEVENT
UID:20200603T1418Z-1591193923.3362-EO-587-1@172.16.200.141
STATUS:CONFIRMED
DTSTAMP:20260422T154617Z
CREATED:20240529T101211Z
LAST-MODIFIED:20240529T101211Z
DTSTART;VALUE=DATE:20240627
DTEND;VALUE=DATE:20240629
SUMMARY: Notes from the Margins: Human-Rights Related Activism\, Advocacy\,
  and Humanitarianism in Southeast Europe (International Workshop)
DESCRIPTION: 27.-28.6.2024 / Münster https://www.uni-muenster.de/EViR/en/ve
 ranstaltungen/tagungenundworkshops/margins.html
X-ALT-DESC;FMTTYPE=text/html: <p>27.-28.6.2024 / Münster</p><p><a href="htt
 ps://www.uni-muenster.de/EViR/en/veranstaltungen/tagungenundworkshops/margi
 ns.html">https://www.uni-muenster.de/EViR/en/veranstaltungen/tagungenundwor
 kshops/margins.html</a></p><p>[av_button label='iCal-Export' link='./feed/e
 o-events' link_target='' size='small' position='center' label_display='' ti
 tle_attr='' icon_select='yes' icon='ue85b' font='entypo-fontello' color='cu
 stom' custom_bg='#b5123e' custom_font='#ffffff' av_uid='' id='' custom_clas
 s='' admin_preview_bg='']</p>
CATEGORIES:Europäisches / Internationales Recht
LOCATION:Inland
GEO:0.000000;0.000000
ORGANIZER;CN="ViFa-Recht":MAILTO:vifa-recht@sbb.spk-berlin.de
URL;VALUE=URI:https://events.intrecht.de/termine/termin/notes-from-the-marg
 ins-human-rights-related-activism-advocacy-and-humanitarianism-in-southeast
 -europe-international-workshop/
END:VEVENT
BEGIN:VTIMEZONE
TZID:Europe/Berlin
BEGIN:DAYLIGHT
TZOFFSETFROM:+0100
TZOFFSETTO:+0200
DTSTART:20240331T010000
TZNAME:CEST
END:DAYLIGHT
END:VTIMEZONE
END:VCALENDAR
