BEGIN:VCALENDAR
VERSION:2.0
PRODID:-//Events | FID-Recht//NONSGML Events//EN
CALSCALE:GREGORIAN
X-ORIGINAL-URL:https://events.intrecht.de/termine/
X-WR-CALDESC:Events | FID-Recht - Events
BEGIN:VEVENT
UID:20200603T1418Z-1591193923.3362-EO-587-1@172.16.200.141
STATUS:CONFIRMED
DTSTAMP:20260425T163955Z
CREATED:20231017T144326Z
LAST-MODIFIED:20231017T144326Z
DTSTART;VALUE=DATE:20231026
DTEND;VALUE=DATE:20231027
SUMMARY: Nordic Noir: Genealogy as a Criminal Investigation Technique in De
 nmark and Sweden (Foreign and Comparative Law Webinar Series)
DESCRIPTION: 26.10.2023 / Online https://loc.zoomgov.com/webinar/register/W
 N_SohKIlQATxGYSz5eNEWhbg#/registration
X-ALT-DESC;FMTTYPE=text/html: <p>26.10.2023 / Online</p><p><a href="https:/
 /loc.zoomgov.com/webinar/register/WN_SohKIlQATxGYSz5eNEWhbg#/registration">
 https://loc.zoomgov.com/webinar/register/WN_SohKIlQATxGYSz5eNEWhbg#/registr
 ation</a></p><p>[av_button label='iCal-Export' link='./feed/eo-events' link
 _target='' size='small' position='center' label_display='' title_attr='' ic
 on_select='yes' icon='ue85b' font='entypo-fontello' color='custom' custom_b
 g='#b5123e' custom_font='#ffffff' av_uid='' id='' custom_class='' admin_pre
 view_bg='']</p>
CATEGORIES:Strafrecht
LOCATION:Online
GEO:0.000000;0.000000
ORGANIZER;CN="ViFa-Recht":MAILTO:vifa-recht@sbb.spk-berlin.de
URL;VALUE=URI:https://events.intrecht.de/termine/termin/nordic-noir-genealo
 gy-as-a-criminal-investigation-technique-in-denmark-and-sweden-foreign-and-
 comparative-law-webinar-series/
END:VEVENT
BEGIN:VTIMEZONE
TZID:Europe/Berlin
BEGIN:DAYLIGHT
TZOFFSETFROM:+0100
TZOFFSETTO:+0200
DTSTART:20230326T010000
TZNAME:CEST
END:DAYLIGHT
END:VTIMEZONE
END:VCALENDAR
