BEGIN:VCALENDAR
VERSION:2.0
PRODID:-//Events | FID-Recht//NONSGML Events//EN
CALSCALE:GREGORIAN
X-ORIGINAL-URL:https://events.intrecht.de/termine/
X-WR-CALDESC:Events | FID-Recht - Events
BEGIN:VEVENT
UID:20220119T1934Z-1642620841.5533-EO-5743-1@172.16.200.141
STATUS:CONFIRMED
DTSTAMP:20260425T231326Z
CREATED:20220114T183646Z
LAST-MODIFIED:20220114T185053Z
DTSTART;VALUE=DATE:20220401
DTEND;VALUE=DATE:20220402
SUMMARY: Nordic jurists and legal internationalism\, 1880s-1970s (Workshop 
 2 of 2) (CfP)
DESCRIPTION: 26.-28.1.2023\, Stockholm (Frist für Einreichungen: 1.4.2022) 
 Nordic jurists and legal internationalism\, 1880s-1970s – University of Cop
 enhagen (ku.dk)  
X-ALT-DESC;FMTTYPE=text/html: <p>26.-28.1.2023\, Stockholm (Frist für Einre
 ichungen: 1.4.2022)</p><p><a href="https://cemes.ku.dk/cemes-news/nordic-ju
 rists-and-legal-internationalism/">Nordic jurists and legal internationalis
 m\, 1880s-1970s – University of Copenhagen (ku.dk)</a></p><p> </p><p>[av_bu
 tton label='iCal-Export' link='./feed/eo-events' link_target='' size='small
 ' position='center' label_display='' title_attr='' icon_select='yes' icon='
 ue85b' font='entypo-fontello' color='custom' custom_bg='#b5123e' custom_fon
 t='#ffffff' av_uid='' id='' custom_class='' admin_preview_bg='']</p>
CATEGORIES:Europäisches / Internationales Recht,Recht interdisziplinär
LOCATION:Ausland
GEO:0.000000;0.000000
ORGANIZER;CN="ViFa-Recht":MAILTO:vifa-recht@sbb.spk-berlin.de
URL;VALUE=URI:https://events.intrecht.de/termine/termin/nordic-jurists-and-
 legal-internationalism-1880s-1970s-workshop-2-of-2-cfp/
END:VEVENT
BEGIN:VTIMEZONE
TZID:Europe/Berlin
BEGIN:DAYLIGHT
TZOFFSETFROM:+0100
TZOFFSETTO:+0200
DTSTART:20220327T010000
TZNAME:CEST
END:DAYLIGHT
END:VTIMEZONE
END:VCALENDAR
