BEGIN:VCALENDAR
VERSION:2.0
PRODID:-//Events | FID-Recht//NONSGML Events//EN
CALSCALE:GREGORIAN
X-ORIGINAL-URL:https://events.intrecht.de/termine/
X-WR-CALDESC:Events | FID-Recht - Events
BEGIN:VEVENT
UID:20230109T1509Z-1673276972.4559-EO-7917-1@172.16.200.151
STATUS:CONFIRMED
DTSTAMP:20260421T151909Z
CREATED:20230104T142149Z
LAST-MODIFIED:20230104T142149Z
DTSTART;VALUE=DATE:20230121
DTEND;VALUE=DATE:20230122
SUMMARY: Norbert Wollheim Memorial und IG Farben-Haus (Öffentliche Führung)
DESCRIPTION: 21.1.2023 / Frankfurt am Main https://www.fritz-bauer-institut
 .de/veranstaltungen/veranstaltung/norbert-wollheim-memorial-01-2023  
X-ALT-DESC;FMTTYPE=text/html: <p>21.1.2023 / Frankfurt am Main</p><p><a hre
 f="https://www.fritz-bauer-institut.de/veranstaltungen/veranstaltung/norber
 t-wollheim-memorial-01-2023">https://www.fritz-bauer-institut.de/veranstalt
 ungen/veranstaltung/norbert-wollheim-memorial-01-2023</a></p><p> </p><p>[av
 _button label='iCal-Export' link='./feed/eo-events' link_target='' size='sm
 all' position='center' label_display='' title_attr='' icon_select='yes' ico
 n='ue85b' font='entypo-fontello' color='custom' custom_bg='#b5123e' custom_
 font='#ffffff' av_uid='' id='' custom_class='' admin_preview_bg='']</p>
CATEGORIES:Recht interdisziplinär
LOCATION:Inland
GEO:0.000000;0.000000
ORGANIZER;CN="ViFa-Recht":MAILTO:vifa-recht@sbb.spk-berlin.de
URL;VALUE=URI:https://events.intrecht.de/termine/termin/norbert-wollheim-me
 morial-und-ig-farben-haus-oeffentliche-fuehrung-2/
END:VEVENT
BEGIN:VTIMEZONE
TZID:Europe/Berlin
BEGIN:STANDARD
TZOFFSETFROM:+0200
TZOFFSETTO:+0100
DTSTART:20221030T010000
TZNAME:CET
END:STANDARD
END:VTIMEZONE
END:VCALENDAR
