BEGIN:VCALENDAR
VERSION:2.0
PRODID:-//Events | FID-Recht//NONSGML Events//EN
CALSCALE:GREGORIAN
X-ORIGINAL-URL:https://events.intrecht.de/termine/
X-WR-CALDESC:Events | FID-Recht - Events
BEGIN:VEVENT
UID:20200603T1418Z-1591193923.3362-EO-587-1@172.16.200.141
STATUS:CONFIRMED
DTSTAMP:20260425T151014Z
CREATED:20231025T094615Z
LAST-MODIFIED:20231025T094615Z
DTSTART;VALUE=DATE:20231120
DTEND;VALUE=DATE:20231121
SUMMARY: Non-State Actors in International Law (Annual BIICL/SLS Workshop)
DESCRIPTION: 20.11.2023 / Online https://www.biicl.org/events/11725/non-sta
 te-actors-in-international-law-annual-biiclsls-workshop?utm_content=buffer6
 f757&utm_medium=social&utm_source=twitter.com&utm_campaign=buffer
X-ALT-DESC;FMTTYPE=text/html: <p>20.11.2023 / Online</p><p><a href="https:/
 /www.biicl.org/events/11725/non-state-actors-in-international-law-annual-bi
 iclsls-workshop?utm_content=buffer6f757&utm_medium=social&utm_source=twitte
 r.com&utm_campaign=buffer">https://www.biicl.org/events/11725/non-state-act
 ors-in-international-law-annual-biiclsls-workshop?utm_content=buffer6f757&u
 tm_medium=social&utm_source=twitter.com&utm_campaign=buffer</a></p><p>[av_b
 utton label='iCal-Export' link='./feed/eo-events' link_target='' size='smal
 l' position='center' label_display='' title_attr='' icon_select='yes' icon=
 'ue85b' font='entypo-fontello' color='custom' custom_bg='#b5123e' custom_fo
 nt='#ffffff' av_uid='' id='' custom_class='' admin_preview_bg='']</p>
CATEGORIES:Europäisches / Internationales Recht
LOCATION:Online
GEO:0.000000;0.000000
ORGANIZER;CN="ViFa-Recht":MAILTO:vifa-recht@sbb.spk-berlin.de
URL;VALUE=URI:https://events.intrecht.de/termine/termin/non-state-actors-in
 -international-law-annual-biicl-sls-workshop/
END:VEVENT
BEGIN:VTIMEZONE
TZID:Europe/Berlin
BEGIN:STANDARD
TZOFFSETFROM:+0200
TZOFFSETTO:+0100
DTSTART:20231029T010000
TZNAME:CET
END:STANDARD
END:VTIMEZONE
END:VCALENDAR
