BEGIN:VCALENDAR
VERSION:2.0
PRODID:-//Events | FID-Recht//NONSGML Events//EN
CALSCALE:GREGORIAN
X-ORIGINAL-URL:https://events.intrecht.de/termine/
X-WR-CALDESC:Events | FID-Recht - Events
BEGIN:VEVENT
UID:20230420T1116Z-1681989385.2477-EO-12698-1@172.16.200.151
STATUS:CONFIRMED
DTSTAMP:20260425T144726Z
CREATED:20230208T160230Z
LAST-MODIFIED:20230208T160230Z
DTSTART;VALUE=DATE:20230819
DTEND;VALUE=DATE:20230822
SUMMARY: NLUD-LDRN 6th General Conference: Locating Justice
DESCRIPTION: 19.-21.8.2023 / Delhi (Frist für Einreichungen: 7.3.2023) http
 s://lawdev.org/nlud-ldrn-6th-general-conference-at-the-national-law-univers
 ity-delhi-india-19-21-august-2023  
X-ALT-DESC;FMTTYPE=text/html: <p>19.-21.8.2023 / Delhi <strong>(Frist für E
 inreichungen: 7.3.2023)</strong></p><p><a href="https://lawdev.org/nlud-ldr
 n-6th-general-conference-at-the-national-law-university-delhi-india-19-21-a
 ugust-2023">https://lawdev.org/nlud-ldrn-6th-general-conference-at-the-nati
 onal-law-university-delhi-india-19-21-august-2023</a></p><p> </p><p>[av_but
 ton label='iCal-Export' link='./feed/eo-events' link_target='' size='small'
  position='center' label_display='' title_attr='' icon_select='yes' icon='u
 e85b' font='entypo-fontello' color='custom' custom_bg='#b5123e' custom_font
 ='#ffffff' av_uid='' id='' custom_class='' admin_preview_bg='']</p>
CATEGORIES:Recht interdisziplinär
LOCATION:Ausland
GEO:0.000000;0.000000
ORGANIZER;CN="ViFa-Recht":MAILTO:vifa-recht@sbb.spk-berlin.de
URL;VALUE=URI:https://events.intrecht.de/termine/termin/nlud-ldrn-6th-gener
 al-conference-locating-justice/
END:VEVENT
BEGIN:VTIMEZONE
TZID:Europe/Berlin
BEGIN:DAYLIGHT
TZOFFSETFROM:+0100
TZOFFSETTO:+0200
DTSTART:20230326T010000
TZNAME:CEST
END:DAYLIGHT
END:VTIMEZONE
END:VCALENDAR
