BEGIN:VCALENDAR
VERSION:2.0
PRODID:-//Events | FID-Recht//NONSGML Events//EN
CALSCALE:GREGORIAN
X-ORIGINAL-URL:https://events.intrecht.de/termine/
X-WR-CALDESC:Events | FID-Recht - Events
BEGIN:VEVENT
UID:20200603T1418Z-1591193923.3362-EO-587-1@172.16.200.141
STATUS:CONFIRMED
DTSTAMP:20260426T061845Z
CREATED:20231115T121222Z
LAST-MODIFIED:20231115T121222Z
DTSTART;VALUE=DATE:20231211
DTEND;VALUE=DATE:20231212
SUMMARY: New technologies in modern warfare (Hague Initiative for Law and A
 rmed Conflict (HILAC) Lecture)
DESCRIPTION: 11.12.2023 / Den Haag https://www.asser.nl/education-events/ev
 ents/?id=4328
X-ALT-DESC;FMTTYPE=text/html: <p>11.12.2023 / Den Haag</p><p><a href="https
 ://www.asser.nl/education-events/events/?id=4328">https://www.asser.nl/educ
 ation-events/events/?id=4328</a></p><p>[av_button label='iCal-Export' link=
 './feed/eo-events' link_target='' size='small' position='center' label_disp
 lay='' title_attr='' icon_select='yes' icon='ue85b' font='entypo-fontello' 
 color='custom' custom_bg='#b5123e' custom_font='#ffffff' av_uid='' id='' cu
 stom_class='' admin_preview_bg='']</p>
CATEGORIES:Europäisches / Internationales Recht
LOCATION:Ausland
GEO:0.000000;0.000000
ORGANIZER;CN="ViFa-Recht":MAILTO:vifa-recht@sbb.spk-berlin.de
URL;VALUE=URI:https://events.intrecht.de/termine/termin/new-technologies-in
 -modern-warfare-hague-initiative-for-law-and-armed-conflict-hilac-lecture/
END:VEVENT
BEGIN:VTIMEZONE
TZID:Europe/Berlin
BEGIN:STANDARD
TZOFFSETFROM:+0200
TZOFFSETTO:+0100
DTSTART:20231029T010000
TZNAME:CET
END:STANDARD
END:VTIMEZONE
END:VCALENDAR
