BEGIN:VCALENDAR
VERSION:2.0
PRODID:-//Events | FID-Recht//NONSGML Events//EN
CALSCALE:GREGORIAN
X-ORIGINAL-URL:https://events.intrecht.de/termine/
X-WR-CALDESC:Events | FID-Recht - Events
BEGIN:VEVENT
UID:20201221T2017Z-1608581879.5886-EO-2261-1@172.16.200.141
STATUS:CONFIRMED
DTSTAMP:20260421T151505Z
CREATED:20201221T144855Z
LAST-MODIFIED:20201221T145617Z
DTSTART;VALUE=DATE:20210113
DTEND;VALUE=DATE:20210114
SUMMARY: New challenges to the Territoriality of EU Law (mit Maciej Szpunar
 ) (Online-Vortrag)
DESCRIPTION: 13.1.2021\, Online https://www.mpipriv.de/1275444/20210113-New
 -challenges-to-the-Territoriality-of-EU-Law.html  
X-ALT-DESC;FMTTYPE=text/html: <p>13.1.2021\, Online</p><p><a href="https://
 www.mpipriv.de/1275444/20210113-New-challenges-to-the-Territoriality-of-EU-
 Law.html">https://www.mpipriv.de/1275444/20210113-New-challenges-to-the-Ter
 ritoriality-of-EU-Law.html</a></p><p> </p><p>[av_button label='iCal-Export'
  link='./feed/eo-events' link_target='' size='small' position='center' labe
 l_display='' title_attr='' icon_select='yes' icon='ue85b' font='entypo-font
 ello' color='custom' custom_bg='#b5123e' custom_font='#ffffff' av_uid='' id
 ='' custom_class='' admin_preview_bg='']</p>
CATEGORIES:Europäisches / Internationales Recht,Zivilrecht
LOCATION:Online
GEO:0.000000;0.000000
ORGANIZER;CN="ViFa-Recht":MAILTO:vifa-recht@sbb.spk-berlin.de
URL;VALUE=URI:https://events.intrecht.de/termine/termin/new-challenges-to-t
 he-territoriality-of-eu-law-mit-maciej-szpunar-online-vortrag/
END:VEVENT
BEGIN:VTIMEZONE
TZID:Europe/Berlin
BEGIN:STANDARD
TZOFFSETFROM:+0200
TZOFFSETTO:+0100
DTSTART:20201025T010000
TZNAME:CET
END:STANDARD
END:VTIMEZONE
END:VCALENDAR
