BEGIN:VCALENDAR
VERSION:2.0
PRODID:-//Events | FID-Recht//NONSGML Events//EN
CALSCALE:GREGORIAN
X-ORIGINAL-URL:https://events.intrecht.de/termine/
X-WR-CALDESC:Events | FID-Recht - Events
BEGIN:VEVENT
UID:20200603T1418Z-1591193923.3362-EO-587-1@172.16.200.141
STATUS:CONFIRMED
DTSTAMP:20260423T034418Z
CREATED:20250618T065913Z
LAST-MODIFIED:20250618T065913Z
DTSTART;VALUE=DATE:20250627
DTEND;VALUE=DATE:20250628
SUMMARY: Neue Rechtssubjekte (Symposium / Jahrestreffen der „Freunde des Ha
 mburger Max-Planck-Instituts“)
DESCRIPTION: 27.6.2025 / Hamburg https://events.mpipriv.de/b?p=verein_der_f
 reunde_2025
X-ALT-DESC;FMTTYPE=text/html: <p>27.6.2025 / Hamburg</p><p><a href="https:/
 /events.mpipriv.de/b?p=verein_der_freunde_2025">https://events.mpipriv.de/b
 ?p=verein_der_freunde_2025</a></p><p>[av_button label='iCal-Export' link='.
 /feed/eo-events' link_target='' size='small' position='center' label_displa
 y='' title_attr='' icon_select='yes' icon='ue85b' font='entypo-fontello' co
 lor='custom' custom_bg='#b5123e' custom_font='#ffffff' av_uid='' id='' cust
 om_class='' admin_preview_bg='']</p>
CATEGORIES:Zivilrecht
LOCATION:Inland
GEO:0.000000;0.000000
ORGANIZER;CN="ViFa-Recht":MAILTO:vifa-recht@sbb.spk-berlin.de
URL;VALUE=URI:https://events.intrecht.de/termine/termin/neue-rechtssubjekte
 -symposium-jahrestreffen-der-freunde-des-hamburger-max-planck-instituts/
END:VEVENT
BEGIN:VTIMEZONE
TZID:Europe/Berlin
BEGIN:DAYLIGHT
TZOFFSETFROM:+0100
TZOFFSETTO:+0200
DTSTART:20250330T010000
TZNAME:CEST
END:DAYLIGHT
END:VTIMEZONE
END:VCALENDAR
