BEGIN:VCALENDAR
VERSION:2.0
PRODID:-//Events | FID-Recht//NONSGML Events//EN
CALSCALE:GREGORIAN
X-ORIGINAL-URL:https://events.intrecht.de/termine/
X-WR-CALDESC:Events | FID-Recht - Events
BEGIN:VEVENT
UID:20200603T1418Z-1591193923.3362-EO-587-1@172.16.200.141
STATUS:CONFIRMED
DTSTAMP:20260423T021946Z
CREATED:20241127T083817Z
LAST-MODIFIED:20241127T083817Z
DTSTART;VALUE=DATE:20250228
DTEND;VALUE=DATE:20250302
SUMMARY: Netzwerktreffen feministische Rechtsgeschichte (Arbeitstreffen)
DESCRIPTION: 28.2-1.3.2025 / Leipzig (Anmeldungsfrist: 30.1.2025) https://w
 ww.jura.uni-leipzig.de/fileadmin/Fakult%C3%A4t_Juristen/Professuren/Michl/2
 024_Call_Feministische_Rechtsgeschichte.pdf
X-ALT-DESC;FMTTYPE=text/html: <p>28.2-1.3.2025 / Leipzig <strong>(Anmeldung
 sfrist: 30.1.2025)</strong></p><p><a href="https://www.jura.uni-leipzig.de/
 fileadmin/Fakult%C3%A4t_Juristen/Professuren/Michl/2024_Call_Feministische_
 Rechtsgeschichte.pdf">https://www.jura.uni-leipzig.de/fileadmin/Fakult%C3%A
 4t_Juristen/Professuren/Michl/2024_Call_Feministische_Rechtsgeschichte.pdf<
 /a></p><p>[av_button label='iCal-Export' link='./feed/eo-events' link_targe
 t='' size='small' position='center' label_display='' title_attr='' icon_sel
 ect='yes' icon='ue85b' font='entypo-fontello' color='custom' custom_bg='#b5
 123e' custom_font='#ffffff' av_uid='' id='' custom_class='' admin_preview_b
 g='']</p>
CATEGORIES:Recht interdisziplinär
LOCATION:Inland
GEO:0.000000;0.000000
ORGANIZER;CN="ViFa-Recht":MAILTO:vifa-recht@sbb.spk-berlin.de
URL;VALUE=URI:https://events.intrecht.de/termine/termin/netzwerktreffen-fem
 inistische-rechtsgeschichte-arbeitstreffen/
END:VEVENT
BEGIN:VTIMEZONE
TZID:Europe/Berlin
BEGIN:STANDARD
TZOFFSETFROM:+0200
TZOFFSETTO:+0100
DTSTART:20241027T010000
TZNAME:CET
END:STANDARD
END:VTIMEZONE
END:VCALENDAR
