BEGIN:VCALENDAR
VERSION:2.0
PRODID:-//Events | FID-Recht//NONSGML Events//EN
CALSCALE:GREGORIAN
X-ORIGINAL-URL:https://events.intrecht.de/termine/
X-WR-CALDESC:Events | FID-Recht - Events
BEGIN:VEVENT
UID:20200603T1418Z-1591193923.3362-EO-587-1@172.16.200.141
STATUS:CONFIRMED
DTSTAMP:20260422T052534Z
CREATED:20240124T102242Z
LAST-MODIFIED:20240124T102242Z
DTSTART;VALUE=DATE:20240201
DTEND;VALUE=DATE:20240202
SUMMARY: Navigating the Imagined State: A deep dive into the conspiratorial
  legal arguments of the ‘Sovereign Citizen’ movement (Hybrid Event)
DESCRIPTION: 1.2.2024 / Online und Oxford https://www.law.ox.ac.uk/content/
 event/navigating-imagined-state-deep-dive-conspiratorial-legal-arguments-so
 vereign-citizen
X-ALT-DESC;FMTTYPE=text/html: <p>1.2.2024 / Online und Oxford</p><p><a href
 ="https://www.law.ox.ac.uk/content/event/navigating-imagined-state-deep-div
 e-conspiratorial-legal-arguments-sovereign-citizen">https://www.law.ox.ac.u
 k/content/event/navigating-imagined-state-deep-dive-conspiratorial-legal-ar
 guments-sovereign-citizen</a></p><p>[av_button label='iCal-Export' link='./
 feed/eo-events' link_target='' size='small' position='center' label_display
 ='' title_attr='' icon_select='yes' icon='ue85b' font='entypo-fontello' col
 or='custom' custom_bg='#b5123e' custom_font='#ffffff' av_uid='' id='' custo
 m_class='' admin_preview_bg='']</p>
CATEGORIES:Recht interdisziplinär
LOCATION:Hybrid
GEO:0.000000;0.000000
ORGANIZER;CN="ViFa-Recht":MAILTO:vifa-recht@sbb.spk-berlin.de
URL;VALUE=URI:https://events.intrecht.de/termine/termin/navigating-the-imag
 ined-state-a-deep-dive-into-the-conspiratorial-legal-arguments-of-the-sover
 eign-citizen-movement-hybrid-event/
END:VEVENT
BEGIN:VTIMEZONE
TZID:Europe/Berlin
BEGIN:STANDARD
TZOFFSETFROM:+0200
TZOFFSETTO:+0100
DTSTART:20231029T010000
TZNAME:CET
END:STANDARD
END:VTIMEZONE
END:VCALENDAR
