BEGIN:VCALENDAR
VERSION:2.0
PRODID:-//Events | FID-Recht//NONSGML Events//EN
CALSCALE:GREGORIAN
X-ORIGINAL-URL:https://events.intrecht.de/termine/
X-WR-CALDESC:Events | FID-Recht - Events
BEGIN:VEVENT
UID:20200603T1418Z-1591193923.3362-EO-587-1@172.16.200.141
STATUS:CONFIRMED
DTSTAMP:20260422T123543Z
CREATED:20230816T095002Z
LAST-MODIFIED:20230816T095002Z
DTSTART;VALUE=DATE:20240306
DTEND;VALUE=DATE:20240310
SUMMARY: Navigating Peace and Sustainability in an Increasingly Complex Wor
 ld (Conference)
DESCRIPTION: 6.-9.3.2024 / Hiroshima (Frist für Einreichungen: 15.10.2023) 
 https://nerps.org/hiroshima_nerps2024/
X-ALT-DESC;FMTTYPE=text/html: <p>6.-9.3.2024 / Hiroshima <strong>(Frist für
  Einreichungen: 15.10.2023)</strong></p><p><a href="https://nerps.org/hiros
 hima_nerps2024/">https://nerps.org/hiroshima_nerps2024/</a></p><p>[av_butto
 n label='iCal-Export' link='./feed/eo-events' link_target='' size='small' p
 osition='center' label_display='' title_attr='' icon_select='yes' icon='ue8
 5b' font='entypo-fontello' color='custom' custom_bg='#b5123e' custom_font='
 #ffffff' av_uid='' id='' custom_class='' admin_preview_bg='']</p>
CATEGORIES:Recht interdisziplinär
LOCATION:Ausland
GEO:0.000000;0.000000
ORGANIZER;CN="ViFa-Recht":MAILTO:vifa-recht@sbb.spk-berlin.de
URL;VALUE=URI:https://events.intrecht.de/termine/termin/navigating-peace-an
 d-sustainability-in-an-increasingly-complex-world-conference/
END:VEVENT
BEGIN:VTIMEZONE
TZID:Europe/Berlin
BEGIN:STANDARD
TZOFFSETFROM:+0200
TZOFFSETTO:+0100
DTSTART:20231029T010000
TZNAME:CET
END:STANDARD
END:VTIMEZONE
END:VCALENDAR
