BEGIN:VCALENDAR
VERSION:2.0
PRODID:-//Events | FID-Recht//NONSGML Events//EN
CALSCALE:GREGORIAN
X-ORIGINAL-URL:https://events.intrecht.de/termine/
X-WR-CALDESC:Events | FID-Recht - Events
BEGIN:VEVENT
UID:20200603T1418Z-1591193923.3362-EO-587-1@172.16.200.141
STATUS:CONFIRMED
DTSTAMP:20260422T192610Z
CREATED:20250110T141311Z
LAST-MODIFIED:20250110T141311Z
DTSTART;VALUE=DATE:20250114
DTEND;VALUE=DATE:20250115
SUMMARY: Navigating Legal Protections for Cohabiting and Economic Relations
 hips: A Critical Comparison (Hybrid Event)
DESCRIPTION: 14.1.2025 / Online und Hamburg https://events.mpipriv.de/b?p=f
 amily_law_at_four_with_elise_goossens
X-ALT-DESC;FMTTYPE=text/html: <p>14.1.2025 / Online und Hamburg</p><p><a hr
 ef="https://events.mpipriv.de/b?p=family_law_at_four_with_elise_goossens">h
 ttps://events.mpipriv.de/b?p=family_law_at_four_with_elise_goossens</a></p>
 <p>[av_button label='iCal-Export' link='./feed/eo-events' link_target='' si
 ze='small' position='center' label_display='' title_attr='' icon_select='ye
 s' icon='ue85b' font='entypo-fontello' color='custom' custom_bg='#b5123e' c
 ustom_font='#ffffff' av_uid='' id='' custom_class='' admin_preview_bg='']</
 p>
CATEGORIES:Zivilrecht
LOCATION:Hybrid
GEO:0.000000;0.000000
ORGANIZER;CN="ViFa-Recht":MAILTO:vifa-recht@sbb.spk-berlin.de
URL;VALUE=URI:https://events.intrecht.de/termine/termin/navigating-legal-pr
 otections-for-cohabiting-and-economic-relationships-a-critical-comparison-h
 ybrid-event/
END:VEVENT
BEGIN:VTIMEZONE
TZID:Europe/Berlin
BEGIN:STANDARD
TZOFFSETFROM:+0200
TZOFFSETTO:+0100
DTSTART:20241027T010000
TZNAME:CET
END:STANDARD
END:VTIMEZONE
END:VCALENDAR
