BEGIN:VCALENDAR
VERSION:2.0
PRODID:-//Events | FID-Recht//NONSGML Events//EN
CALSCALE:GREGORIAN
X-ORIGINAL-URL:https://events.intrecht.de/termine/
X-WR-CALDESC:Events | FID-Recht - Events
BEGIN:VEVENT
UID:20200603T1418Z-1591193923.3362-EO-587-1@172.16.200.141
STATUS:CONFIRMED
DTSTAMP:20260425T220113Z
CREATED:20250401T101924Z
LAST-MODIFIED:20250401T101924Z
DTSTART;VALUE=DATE:20250423
DTEND;VALUE=DATE:20250426
SUMMARY: Navigating Epistemic\, Cultural\, and Legal Translations: Processe
 s\, Hierarchies\, Spaces (Leibniz ScienceCampus 2025 Conference)
DESCRIPTION: 23.-25.4.2025 / Regensburg https://europeamerica.de/lsc-conf-2
 025.html
X-ALT-DESC;FMTTYPE=text/html: <p>23.-25.4.2025 / Regensburg</p><p><a href="
 https://europeamerica.de/lsc-conf-2025.html">https://europeamerica.de/lsc-c
 onf-2025.html</a></p><p>[av_button label='iCal-Export' link='./feed/eo-even
 ts' link_target='' size='small' position='center' label_display='' title_at
 tr='' icon_select='yes' icon='ue85b' font='entypo-fontello' color='custom' 
 custom_bg='#b5123e' custom_font='#ffffff' av_uid='' id='' custom_class='' a
 dmin_preview_bg='']</p>
CATEGORIES:Recht interdisziplinär
LOCATION:Inland
GEO:0.000000;0.000000
ORGANIZER;CN="ViFa-Recht":MAILTO:vifa-recht@sbb.spk-berlin.de
URL;VALUE=URI:https://events.intrecht.de/termine/termin/navigating-epistemi
 c-cultural-and-legal-translations-processes-hierarchies-spaces-leibniz-scie
 ncecampus-2025-conference/
END:VEVENT
BEGIN:VTIMEZONE
TZID:Europe/Berlin
BEGIN:DAYLIGHT
TZOFFSETFROM:+0100
TZOFFSETTO:+0200
DTSTART:20250330T010000
TZNAME:CEST
END:DAYLIGHT
END:VTIMEZONE
END:VCALENDAR
