BEGIN:VCALENDAR
VERSION:2.0
PRODID:-//Events | FID-Recht//NONSGML Events//EN
CALSCALE:GREGORIAN
X-ORIGINAL-URL:https://events.intrecht.de/termine/
X-WR-CALDESC:Events | FID-Recht - Events
BEGIN:VEVENT
UID:20200603T1418Z-1591193923.3362-EO-587-1@172.16.200.141
STATUS:CONFIRMED
DTSTAMP:20260423T021012Z
CREATED:20241127T084359Z
LAST-MODIFIED:20241127T084359Z
DTSTART;VALUE=DATE:20250428
DTEND;VALUE=DATE:20250430
SUMMARY: Navigating a Multipolar World: Challenges to the Post-WWII Status 
 Quo of International Law (14th Annual Cambridge International Law Conferenc
 e 2025)
DESCRIPTION: 28.-29.4.2025 / Cambridge (Einreichungsfrist: 9.1.2025) https:
 //cambridgejournalofinternatlandcomplaw.submittable.com/submit/311500/call-
 for-papers-14th-annual-cambridge-international-law-conference-2025
X-ALT-DESC;FMTTYPE=text/html: <p>28.-29.4.2025 / Cambridge <strong>(Einreic
 hungsfrist: 9.1.2025)</strong></p><p><a href="https://cambridgejournalofint
 ernatlandcomplaw.submittable.com/submit/311500/call-for-papers-14th-annual-
 cambridge-international-law-conference-2025">https://cambridgejournalofinte
 rnatlandcomplaw.submittable.com/submit/311500/call-for-papers-14th-annual-c
 ambridge-international-law-conference-2025</a></p><p>[av_button label='iCal
 -Export' link='./feed/eo-events' link_target='' size='small' position='cent
 er' label_display='' title_attr='' icon_select='yes' icon='ue85b' font='ent
 ypo-fontello' color='custom' custom_bg='#b5123e' custom_font='#ffffff' av_u
 id='' id='' custom_class='' admin_preview_bg='']</p>
CATEGORIES:Europäisches / Internationales Recht
LOCATION:Ausland
GEO:0.000000;0.000000
ORGANIZER;CN="ViFa-Recht":MAILTO:vifa-recht@sbb.spk-berlin.de
URL;VALUE=URI:https://events.intrecht.de/termine/termin/navigating-a-multip
 olar-world-challenges-to-the-post-wwii-status-quo-of-international-law-14th
 -annual-cambridge-international-law-conference-2025/
END:VEVENT
BEGIN:VTIMEZONE
TZID:Europe/Berlin
BEGIN:DAYLIGHT
TZOFFSETFROM:+0100
TZOFFSETTO:+0200
DTSTART:20250330T010000
TZNAME:CEST
END:DAYLIGHT
END:VTIMEZONE
END:VCALENDAR
