BEGIN:VCALENDAR
VERSION:2.0
PRODID:-//Events | FID-Recht//NONSGML Events//EN
CALSCALE:GREGORIAN
X-ORIGINAL-URL:https://events.intrecht.de/termine/
X-WR-CALDESC:Events | FID-Recht - Events
BEGIN:VEVENT
UID:20201005T1937Z-1601926634.7314-EO-1709-1@172.16.200.141
STATUS:CONFIRMED
DTSTAMP:20260421T133925Z
CREATED:20201002T131150Z
LAST-MODIFIED:20201002T131150Z
DTSTART;VALUE=DATE:20201005
DTEND;VALUE=DATE:20201005
SUMMARY: Naturkundliche Objekte aus kolonialen Kontexten – Erste Ansätze fü
 r die Provenienzforschung zu den Sammlungen des Berliner Botanischen Garten
 s und Museums (Online-Vortrag von Katja Kaiser)
DESCRIPTION: 5.10.2020\, Online https://www.kulturgutverluste.de/Content/02
 _Aktuelles/DE/Termine/2020/2020-10-05_Kolloquium-Katja-Kaiser.html?nn=10072
 0    
X-ALT-DESC;FMTTYPE=text/html: <p>5.10.2020\, Online</p><p><a href="https://
 www.kulturgutverluste.de/Content/02_Aktuelles/DE/Termine/2020/2020-10-05_Ko
 lloquium-Katja-Kaiser.html?nn=100720">https://www.kulturgutverluste.de/Cont
 ent/02_Aktuelles/DE/Termine/2020/2020-10-05_Kolloquium-Katja-Kaiser.html?nn
 =100720</a></p><p><strong> </strong></p><p> </p><p>[av_button label='iCal-E
 xport' link='./feed/eo-events' link_target='' size='small' position='center
 ' label_display='' title_attr='' icon_select='yes' icon='ue85b' font='entyp
 o-fontello' color='custom' custom_bg='#b5123e' custom_font='#ffffff' av_uid
 ='' id='' custom_class='' admin_preview_bg='']</p>
CATEGORIES:Recht interdisziplinär
LOCATION:Online
GEO:0.000000;0.000000
ORGANIZER;CN="ViFa-Recht":MAILTO:vifa-recht@sbb.spk-berlin.de
URL;VALUE=URI:https://events.intrecht.de/termine/termin/naturkundliche-obje
 kte-aus-kolonialen-kontexten-erste-ansaetze-fuer-die-provenienzforschung-zu
 -den-sammlungen-des-berliner-botanischen-gartens-und-museums-online-vortrag
 -von-katja-kaiser/
END:VEVENT
BEGIN:VTIMEZONE
TZID:Europe/Berlin
BEGIN:DAYLIGHT
TZOFFSETFROM:+0100
TZOFFSETTO:+0200
DTSTART:20200329T010000
TZNAME:CEST
END:DAYLIGHT
END:VTIMEZONE
END:VCALENDAR
