BEGIN:VCALENDAR
VERSION:2.0
PRODID:-//Events | FID-Recht//NONSGML Events//EN
CALSCALE:GREGORIAN
X-ORIGINAL-URL:https://events.intrecht.de/termine/
X-WR-CALDESC:Events | FID-Recht - Events
BEGIN:VEVENT
UID:20201216T2101Z-1608152485.6612-EO-2596-1@172.16.200.141
STATUS:CONFIRMED
DTSTAMP:20260425T212121Z
CREATED:20201201T175044Z
LAST-MODIFIED:20201201T175252Z
DTSTART;VALUE=DATE:20201201
DTEND;VALUE=DATE:20201202
SUMMARY: Nationalismus\, Territorialismus und Unilateralismus – Pandemiebew
 ältigung durch IPR (mit Marc-Philippe Weller) (Online-Vortrag)
DESCRIPTION: 1.12.2020\, Online https://www.mpipriv.de/1266644/20201201-nat
 ionalismus-territorialismus-und-unilateralismus-pandemiebewaltigung-durch-i
 pr.html  
X-ALT-DESC;FMTTYPE=text/html: <p>1.12.2020\, Online</p><p><a href="https://
 www.mpipriv.de/1266644/20201201-nationalismus-territorialismus-und-unilater
 alismus-pandemiebewaltigung-durch-ipr.html">https://www.mpipriv.de/1266644/
 20201201-nationalismus-territorialismus-und-unilateralismus-pandemiebewalti
 gung-durch-ipr.html</a></p><p> </p><p>[av_button label='iCal-Export' link='
 ./feed/eo-events' link_target='' size='small' position='center' label_displ
 ay='' title_attr='' icon_select='yes' icon='ue85b' font='entypo-fontello' c
 olor='custom' custom_bg='#b5123e' custom_font='#ffffff' av_uid='' id='' cus
 tom_class='' admin_preview_bg='']</p>
CATEGORIES:Zivilrecht
LOCATION:Online
GEO:0.000000;0.000000
ORGANIZER;CN="ViFa-Recht":MAILTO:vifa-recht@sbb.spk-berlin.de
URL;VALUE=URI:https://events.intrecht.de/termine/termin/nationalismus-terri
 torialismus-und-unilateralismus-pandemiebewaeltigung-durch-ipr-mit-marc-phi
 lippe-weller-online-vortrag/
END:VEVENT
BEGIN:VTIMEZONE
TZID:Europe/Berlin
BEGIN:STANDARD
TZOFFSETFROM:+0200
TZOFFSETTO:+0100
DTSTART:20201025T010000
TZNAME:CET
END:STANDARD
END:VTIMEZONE
END:VCALENDAR
