BEGIN:VCALENDAR
VERSION:2.0
PRODID:-//Events | FID-Recht//NONSGML Events//EN
CALSCALE:GREGORIAN
X-ORIGINAL-URL:https://events.intrecht.de/termine/
X-WR-CALDESC:Events | FID-Recht - Events
BEGIN:VEVENT
UID:20200603T1418Z-1591193923.3362-EO-587-1@172.16.200.141
STATUS:CONFIRMED
DTSTAMP:20260422T173057Z
CREATED:20240823T111959Z
LAST-MODIFIED:20240823T111959Z
DTSTART;VALUE=DATE:20250328
DTEND;VALUE=DATE:20250330
SUMMARY: National Conference of Constitutional Law Scholars (Conference)
DESCRIPTION: 28.-29.3.2025 / Tucson (Einreichungsfrist: 1.10.2024) https://
 balkin.blogspot.com/2024/08/call-for-papers-national-conference-of.html
X-ALT-DESC;FMTTYPE=text/html: <p>28.-29.3.2025 / Tucson <strong>(Einreichun
 gsfrist: 1.10.2024)</strong></p><p><a href="https://balkin.blogspot.com/202
 4/08/call-for-papers-national-conference-of.html">https://balkin.blogspot.c
 om/2024/08/call-for-papers-national-conference-of.html</a></p><p>[av_button
  label='iCal-Export' link='./feed/eo-events' link_target='' size='small' po
 sition='center' label_display='' title_attr='' icon_select='yes' icon='ue85
 b' font='entypo-fontello' color='custom' custom_bg='#b5123e' custom_font='#
 ffffff' av_uid='' id='' custom_class='' admin_preview_bg='']</p>
CATEGORIES:Öffentliches Recht
LOCATION:Ausland
GEO:0.000000;0.000000
ORGANIZER;CN="ViFa-Recht":MAILTO:vifa-recht@sbb.spk-berlin.de
URL;VALUE=URI:https://events.intrecht.de/termine/termin/national-conference
 -of-constitutional-law-scholars-conference/
END:VEVENT
BEGIN:VTIMEZONE
TZID:Europe/Berlin
BEGIN:STANDARD
TZOFFSETFROM:+0200
TZOFFSETTO:+0100
DTSTART:20241027T010000
TZNAME:CET
END:STANDARD
END:VTIMEZONE
END:VCALENDAR
