BEGIN:VCALENDAR
VERSION:2.0
PRODID:-//Events | FID-Recht//NONSGML Events//EN
CALSCALE:GREGORIAN
X-ORIGINAL-URL:https://events.intrecht.de/termine/
X-WR-CALDESC:Events | FID-Recht - Events
BEGIN:VEVENT
UID:20200603T1418Z-1591193923.3362-EO-587-1@172.16.200.141
STATUS:CONFIRMED
DTSTAMP:20260423T070826Z
CREATED:20250331T160356Z
LAST-MODIFIED:20250331T160356Z
DTSTART;VALUE=DATE:20250625
DTEND;VALUE=DATE:20250626
SUMMARY: Narratives in International Courts and Tribunals (Online Pre-Confe
 rence Workshop)
DESCRIPTION: 25.6.2025 / Online (Einreichungsfrist: 30.4.2025) https://voel
 kerrechtsblog.org/de/calls-for-papers/call-for-abstracts-narratives-in-inte
 rnational-courts-and-tribunals-2025-pre-conference-workshop/
X-ALT-DESC;FMTTYPE=text/html: <p>25.6.2025 / Online <strong>(Einreichungsfr
 ist: 30.4.2025)</strong></p><p><a href="https://voelkerrechtsblog.org/de/ca
 lls-for-papers/call-for-abstracts-narratives-in-international-courts-and-tr
 ibunals-2025-pre-conference-workshop/">https://voelkerrechtsblog.org/de/cal
 ls-for-papers/call-for-abstracts-narratives-in-international-courts-and-tri
 bunals-2025-pre-conference-workshop/</a></p><p>[av_button label='iCal-Expor
 t' link='./feed/eo-events' link_target='' size='small' position='center' la
 bel_display='' title_attr='' icon_select='yes' icon='ue85b' font='entypo-fo
 ntello' color='custom' custom_bg='#b5123e' custom_font='#ffffff' av_uid='' 
 id='' custom_class='' admin_preview_bg='']</p>
CATEGORIES:Europäisches / Internationales Recht
LOCATION:Online
GEO:0.000000;0.000000
ORGANIZER;CN="ViFa-Recht":MAILTO:vifa-recht@sbb.spk-berlin.de
URL;VALUE=URI:https://events.intrecht.de/termine/termin/narratives-in-inter
 national-courts-and-tribunals-online-pre-conference-workshop/
END:VEVENT
BEGIN:VTIMEZONE
TZID:Europe/Berlin
BEGIN:DAYLIGHT
TZOFFSETFROM:+0100
TZOFFSETTO:+0200
DTSTART:20250330T010000
TZNAME:CEST
END:DAYLIGHT
END:VTIMEZONE
END:VCALENDAR
