BEGIN:VCALENDAR
VERSION:2.0
PRODID:-//Events | FID-Recht//NONSGML Events//EN
CALSCALE:GREGORIAN
X-ORIGINAL-URL:https://events.intrecht.de/termine/
X-WR-CALDESC:Events | FID-Recht - Events
BEGIN:VEVENT
UID:20230215T1645Z-1676479528.2099-EO-8009-1@172.16.200.151
STATUS:CONFIRMED
DTSTAMP:20260422T013237Z
CREATED:20230116T104128Z
LAST-MODIFIED:20230116T104128Z
DTSTART;VALUE=DATE:20230626
DTEND;VALUE=DATE:20230629
SUMMARY: Nachwuchstagung Rechtsgeschichte – 1. Tagung des jungen Netzwerks 
 Rechtsgeschichte: Konflikte um Wahrheit
DESCRIPTION: 26.-28.6.2023 / Frankfurt am Main (Call for Papers: 28.2.2023)
  https://www.lhlt.mpg.de/nachwuchstagung  
X-ALT-DESC;FMTTYPE=text/html: <p>26.-28.6.2023 / Frankfurt am Main <strong>
 (Call for Papers: 28.2.2023)</strong></p><p><a href="https://www.lhlt.mpg.d
 e/nachwuchstagung">https://www.lhlt.mpg.de/nachwuchstagung</a></p><p> </p><
 p>[av_button label='iCal-Export' link='./feed/eo-events' link_target='' siz
 e='small' position='center' label_display='' title_attr='' icon_select='yes
 ' icon='ue85b' font='entypo-fontello' color='custom' custom_bg='#b5123e' cu
 stom_font='#ffffff' av_uid='' id='' custom_class='' admin_preview_bg='']</p
 >
CATEGORIES:Recht interdisziplinär
LOCATION:Inland
GEO:0.000000;0.000000
ORGANIZER;CN="ViFa-Recht":MAILTO:vifa-recht@sbb.spk-berlin.de
URL;VALUE=URI:https://events.intrecht.de/termine/termin/nachwuchstagung-rec
 htsgeschichte-1-tagung-des-jungen-netzwerks-rechtsgeschichte-konflikte-um-w
 ahrheit/
END:VEVENT
BEGIN:VTIMEZONE
TZID:Europe/Berlin
BEGIN:DAYLIGHT
TZOFFSETFROM:+0100
TZOFFSETTO:+0200
DTSTART:20230326T010000
TZNAME:CEST
END:DAYLIGHT
END:VTIMEZONE
END:VCALENDAR
