BEGIN:VCALENDAR
VERSION:2.0
PRODID:-//Events | FID-Recht//NONSGML Events//EN
CALSCALE:GREGORIAN
X-ORIGINAL-URL:https://events.intrecht.de/termine/
X-WR-CALDESC:Events | FID-Recht - Events
BEGIN:VEVENT
UID:20211002T0752Z-1633161135.0665-EO-4646-1@172.16.200.141
STATUS:CONFIRMED
DTSTAMP:20260420T111556Z
CREATED:20210927T153731Z
LAST-MODIFIED:20210927T153731Z
DTSTART;VALUE=DATE:20211007
DTEND;VALUE=DATE:20211009
SUMMARY: Mutual Trust in the Area of Freedom\, Security and Justice (Tagung
 )
DESCRIPTION: 7.-8.10.2021\, Straßburg Symposium on mutual trust in the Area
  of freedom\, security and justice at Strasbourg University – Conflict of L
 aws  
X-ALT-DESC;FMTTYPE=text/html: <p>7.-8.10.2021\, Straßburg</p><p><a href="ht
 tps://conflictoflaws.net/2021/symposium-on-mutual-trust-in-the-area-of-free
 dom-security-and-justice-at-strasbourg-university/">Symposium on mutual tru
 st in the Area of freedom\, security and justice at Strasbourg University –
  Conflict of Laws</a></p><p> </p><p>[av_button label='iCal-Export' link='./
 feed/eo-events' link_target='' size='small' position='center' label_display
 ='' title_attr='' icon_select='yes' icon='ue85b' font='entypo-fontello' col
 or='custom' custom_bg='#b5123e' custom_font='#ffffff' av_uid='' id='' custo
 m_class='' admin_preview_bg='']</p>
CATEGORIES:Europäisches / Internationales Recht
LOCATION:Ausland
GEO:0.000000;0.000000
ORGANIZER;CN="ViFa-Recht":MAILTO:vifa-recht@sbb.spk-berlin.de
URL;VALUE=URI:https://events.intrecht.de/termine/termin/mutual-trust-in-the
 -area-of-freedom-security-and-justice-tagung/
END:VEVENT
BEGIN:VTIMEZONE
TZID:Europe/Berlin
BEGIN:DAYLIGHT
TZOFFSETFROM:+0100
TZOFFSETTO:+0200
DTSTART:20210328T010000
TZNAME:CEST
END:DAYLIGHT
END:VTIMEZONE
END:VCALENDAR
