BEGIN:VCALENDAR
VERSION:2.0
PRODID:-//Events | FID-Recht//NONSGML Events//EN
CALSCALE:GREGORIAN
X-ORIGINAL-URL:https://events.intrecht.de/termine/
X-WR-CALDESC:Events | FID-Recht - Events
BEGIN:VEVENT
UID:20200603T1418Z-1591193923.3362-EO-587-1@172.16.200.141
STATUS:CONFIRMED
DTSTAMP:20260425T162352Z
CREATED:20230221T121610Z
LAST-MODIFIED:20230221T121610Z
DTSTART;VALUE=DATE:20230524
DTEND;VALUE=DATE:20230527
SUMMARY: Munich Summer Institute 2023 & Ph.D. Workshop
DESCRIPTION: 24.-26.5.2023 / München (Ph.D. Workshop findet am Vortag\, 23.
 5.2023\, statt) http://munich-summer-institute.org/call-for-papers/
X-ALT-DESC;FMTTYPE=text/html: <p>24.-26.5.2023 / München (Ph.D. Workshop fi
 ndet am Vortag\, 23.5.2023\, statt)</p><p><a href="http://munich-summer-ins
 titute.org/call-for-papers/">http://munich-summer-institute.org/call-for-pa
 pers/</a></p><p>[av_button label='iCal-Export' link='./feed/eo-events' link
 _target='' size='small' position='center' label_display='' title_attr='' ic
 on_select='yes' icon='ue85b' font='entypo-fontello' color='custom' custom_b
 g='#b5123e' custom_font='#ffffff' av_uid='' id='' custom_class='' admin_pre
 view_bg='']</p>
CATEGORIES:Recht interdisziplinär
LOCATION:Inland
GEO:0.000000;0.000000
ORGANIZER;CN="ViFa-Recht":MAILTO:vifa-recht@sbb.spk-berlin.de
URL;VALUE=URI:https://events.intrecht.de/termine/termin/munich-summer-insti
 tute-2023-ph-d-workshop/
END:VEVENT
BEGIN:VTIMEZONE
TZID:Europe/Berlin
BEGIN:DAYLIGHT
TZOFFSETFROM:+0100
TZOFFSETTO:+0200
DTSTART:20230326T010000
TZNAME:CEST
END:DAYLIGHT
END:VTIMEZONE
END:VCALENDAR
