BEGIN:VCALENDAR
VERSION:2.0
PRODID:-//Events | FID-Recht//NONSGML Events//EN
CALSCALE:GREGORIAN
X-ORIGINAL-URL:https://events.intrecht.de/termine/
X-WR-CALDESC:Events | FID-Recht - Events
BEGIN:VEVENT
UID:20200618T1206Z-1592482006.1-EO-945-1@172.16.200.141
STATUS:CONFIRMED
DTSTAMP:20260421T205153Z
CREATED:20200605T102615Z
LAST-MODIFIED:20200605T102615Z
DTSTART;VALUE=DATE:20210105
DTEND;VALUE=DATE:20210110
SUMMARY: Mundus et commercium – 74th Session of the Société Internationale 
 Fernand Visscher pour l’Histoire des Droits de l’Antiquité (SIHDA) (Konfere
 nz)
DESCRIPTION: 5.-9.1.2021\, Santiago de Chile http://sihda2021.derecho.uc.cl
 /  
X-ALT-DESC;FMTTYPE=text/html: <p>5.-9.1.2021\, Santiago de Chile</p><p><a h
 ref="http://sihda2021.derecho.uc.cl/">http://sihda2021.derecho.uc.cl/</a></
 p><p> </p><p>[av_button label='iCal-Export' link='./feed/eo-events' link_ta
 rget='' size='small' position='center' label_display='' title_attr='' icon_
 select='yes' icon='ue85b' font='entypo-fontello' color='custom' custom_bg='
 #b5123e' custom_font='#ffffff' av_uid='' id='' custom_class='' admin_previe
 w_bg='']</p>
CATEGORIES:Europäisches / Internationales Recht,Öffentliches Recht,Recht interdisziplinär,Zivilrecht
LOCATION:Ausland
GEO:0.000000;0.000000
ORGANIZER;CN="ViFa-Recht":MAILTO:vifa-recht@sbb.spk-berlin.de
URL;VALUE=URI:https://events.intrecht.de/termine/termin/mundus-et-commerciu
 m-74th-session-of-the-societe-internationale-fernand-visscher-pour-lhistoir
 e-des-droits-de-lantiquite-sihda-konferenz/
END:VEVENT
BEGIN:VTIMEZONE
TZID:Europe/Berlin
BEGIN:STANDARD
TZOFFSETFROM:+0200
TZOFFSETTO:+0100
DTSTART:20201025T010000
TZNAME:CET
END:STANDARD
END:VTIMEZONE
END:VCALENDAR
