BEGIN:VCALENDAR
VERSION:2.0
PRODID:-//Events | FID-Recht//NONSGML Events//EN
CALSCALE:GREGORIAN
X-ORIGINAL-URL:https://events.intrecht.de/termine/
X-WR-CALDESC:Events | FID-Recht - Events
BEGIN:VEVENT
UID:20201117T2236Z-1605652568.6439-EO-2197-1@172.16.200.141
STATUS:CONFIRMED
DTSTAMP:20260421T151516Z
CREATED:20201111T172012Z
LAST-MODIFIED:20201111T172012Z
DTSTART;VALUE=DATE:20201201
DTEND;VALUE=DATE:20201201
SUMMARY: Multiple Zugehörigkeiten? Die Vielschichtigkeit von belonging in e
 inem Vielvölkerreich (Russland ca. 1850–1917) (mit Malte Rolf) (Online-Vort
 rag)
DESCRIPTION: 1.12.2020\, Online https://www.uni-muenster.de/Religion-und-Po
 litik/aktuelles/2020/aktuell/PM_Ringvorlesung_Imperien.html      
X-ALT-DESC;FMTTYPE=text/html: <p>1.12.2020\, Online</p><p><a href="https://
 www.uni-muenster.de/Religion-und-Politik/aktuelles/2020/aktuell/PM_Ringvorl
 esung_Imperien.html">https://www.uni-muenster.de/Religion-und-Politik/aktue
 lles/2020/aktuell/PM_Ringvorlesung_Imperien.html</a></p><p><strong> </stron
 g></p><p><strong> </strong></p><p> </p><p>[av_button label='iCal-Export' li
 nk='./feed/eo-events' link_target='' size='small' position='center' label_d
 isplay='' title_attr='' icon_select='yes' icon='ue85b' font='entypo-fontell
 o' color='custom' custom_bg='#b5123e' custom_font='#ffffff' av_uid='' id=''
  custom_class='' admin_preview_bg='']</p>
CATEGORIES:Europäisches / Internationales Recht,Recht interdisziplinär
LOCATION:Online
GEO:0.000000;0.000000
ORGANIZER;CN="ViFa-Recht":MAILTO:vifa-recht@sbb.spk-berlin.de
URL;VALUE=URI:https://events.intrecht.de/termine/termin/multiple-zugehoerig
 keiten-die-vielschichtigkeit-von-belonging-in-einem-vielvoelkerreich-russla
 nd-ca-1850-1917-mit-malte-rolf-online-vortrag/
END:VEVENT
BEGIN:VTIMEZONE
TZID:Europe/Berlin
BEGIN:STANDARD
TZOFFSETFROM:+0200
TZOFFSETTO:+0100
DTSTART:20201025T010000
TZNAME:CET
END:STANDARD
END:VTIMEZONE
END:VCALENDAR
