BEGIN:VCALENDAR
VERSION:2.0
PRODID:-//Events | FID-Recht//NONSGML Events//EN
CALSCALE:GREGORIAN
X-ORIGINAL-URL:https://events.intrecht.de/termine/
X-WR-CALDESC:Events | FID-Recht - Events
BEGIN:VEVENT
UID:20200618T2222Z-1592518928.397-EO-991-1@172.16.200.141
STATUS:CONFIRMED
DTSTAMP:20260421T133548Z
CREATED:20200605T123142Z
LAST-MODIFIED:20200622T181943Z
DTSTART;VALUE=DATE:20210113
DTEND;VALUE=DATE:20210116
SUMMARY: Multiple Legalities – Conflict and Entanglement in the Global Lega
 l Order (International conference jointly organized by HU Berlin and Gradua
 te Institute Geneva) (Konferenz)
DESCRIPTION: 13.-15.1.2021\, Berlin (voraussichtlicher Ersatztermin für den
  ausgefallenen Termin im Juli 2020 – Stand: 7.6.2020) https://www.osaic.eu/
 events/      
X-ALT-DESC;FMTTYPE=text/html: <p><span style="display: inline !important\; 
 float: none\; background-color: #ffffff\; color: #333333\; cursor: text\; f
 ont-family: Georgia\,'Times New Roman'\,'Bitstream Charter'\,Times\,serif\;
  font-size: 16px\; font-style: normal\; font-variant: normal\; font-weight:
  400\; letter-spacing: normal\; orphans: 2\; text-align: left\; text-decora
 tion: none\; text-indent: 0px\; text-transform: none\; -webkit-text-stroke-
 width: 0px\; white-space: normal\; word-spacing: 0px\;">13.-15.1.2021</span
 >\, Berlin (voraussichtlicher Ersatztermin für den ausgefallenen Termin im 
 Juli 2020 - Stand: 7.6.2020)</p><p><a href="https://www.osaic.eu/events/">h
 ttps://www.osaic.eu/events/</a></p><p> </p><p> </p><p> </p><p>[av_button la
 bel='iCal-Export' link='./feed/eo-events' link_target='' size='small' posit
 ion='center' label_display='' title_attr='' icon_select='yes' icon='ue85b' 
 font='entypo-fontello' color='custom' custom_bg='#b5123e' custom_font='#fff
 fff' av_uid='' id='' custom_class='' admin_preview_bg='']</p>
CATEGORIES:Europäisches / Internationales Recht
LOCATION:Inland
GEO:0.000000;0.000000
ORGANIZER;CN="ViFa-Recht":MAILTO:vifa-recht@sbb.spk-berlin.de
URL;VALUE=URI:https://events.intrecht.de/termine/termin/multiple-legalities
 -conflict-and-entanglement-in-the-global-legal-order-international-conferen
 ce-jointly-organized-by-hu-berlin-and-graduate-institute-geneva-konferenz/
END:VEVENT
BEGIN:VTIMEZONE
TZID:Europe/Berlin
BEGIN:STANDARD
TZOFFSETFROM:+0200
TZOFFSETTO:+0100
DTSTART:20201025T010000
TZNAME:CET
END:STANDARD
END:VTIMEZONE
END:VCALENDAR
