BEGIN:VCALENDAR
VERSION:2.0
PRODID:-//Events | FID-Recht//NONSGML Events//EN
CALSCALE:GREGORIAN
X-ORIGINAL-URL:https://events.intrecht.de/termine/
X-WR-CALDESC:Events | FID-Recht - Events
BEGIN:VEVENT
UID:20200602T0945Z-1591091115.9737-EO-599-1@172.16.200.141
STATUS:CONFIRMED
DTSTAMP:20260425T161214Z
CREATED:20260310T091839Z
LAST-MODIFIED:20260310T091839Z
DTSTART;VALUE=DATE:20260312
DTEND;VALUE=DATE:20260313
SUMMARY: Multiperspectivism in International Legal Scholarship (Panel Discu
 ssion)
DESCRIPTION: 12.3.2026 / Berlin https://www.mpil.de/apps/eventcalendar/data
 /pdf2/announcement_multiperspectivism.pdf
X-ALT-DESC;FMTTYPE=text/html: <p>12.3.2026 / Berlin</p><p><a href="https://
 www.mpil.de/apps/eventcalendar/data/pdf2/announcement_multiperspectivism.pd
 f">https://www.mpil.de/apps/eventcalendar/data/pdf2/announcement_multipersp
 ectivism.pdf</a></p><p>[av_button label='iCal-Export' link='./feed/eo-event
 s' link_target='' size='small' position='center' label_display='' title_att
 r='' icon_select='yes' icon='ue85b' font='entypo-fontello' color='custom' c
 ustom_bg='#b5123e' custom_font='#ffffff' av_uid='' id='' custom_class='' ad
 min_preview_bg='']</p>
CATEGORIES:Europäisches / Internationales Recht
LOCATION:Inland
GEO:0.000000;0.000000
ORGANIZER;CN="ViFa-Recht":MAILTO:vifa-recht@sbb.spk-berlin.de
URL;VALUE=URI:https://events.intrecht.de/termine/termin/multiperspectivism-
 in-international-legal-scholarship-panel-discussion/
END:VEVENT
BEGIN:VTIMEZONE
TZID:Europe/Berlin
BEGIN:STANDARD
TZOFFSETFROM:+0200
TZOFFSETTO:+0100
DTSTART:20251026T010000
TZNAME:CET
END:STANDARD
END:VTIMEZONE
END:VCALENDAR
