BEGIN:VCALENDAR
VERSION:2.0
PRODID:-//Events | FID-Recht//NONSGML Events//EN
CALSCALE:GREGORIAN
X-ORIGINAL-URL:https://events.intrecht.de/termine/
X-WR-CALDESC:Events | FID-Recht - Events
BEGIN:VEVENT
UID:20200602T0945Z-1591091115.9737-EO-599-1@172.16.200.141
STATUS:CONFIRMED
DTSTAMP:20260423T040712Z
CREATED:20260413T104314Z
LAST-MODIFIED:20260413T104314Z
DTSTART;VALUE=DATE:20261119
DTEND;VALUE=DATE:20261122
SUMMARY: Multilateralism\, international institutions and the ethics of war
  (Workshop)
DESCRIPTION: 19.-21.11.2026 / Bern (Einreichungsfrist: 15.5.2026) https://w
 ww.theorieblog.de/wp-content/uploads/2026/03/Cfp-Multilateralism-and-War.pd
 f
X-ALT-DESC;FMTTYPE=text/html: <p>19.-21.11.2026 / Bern <strong>(Einreichung
 sfrist: 15.5.2026)</strong></p><p><a href="https://www.theorieblog.de/wp-co
 ntent/uploads/2026/03/Cfp-Multilateralism-and-War.pdf">https://www.theorieb
 log.de/wp-content/uploads/2026/03/Cfp-Multilateralism-and-War.pdf</a></p><p
 >[av_button label='iCal-Export' link='./feed/eo-events' link_target='' size
 ='small' position='center' label_display='' title_attr='' icon_select='yes'
  icon='ue85b' font='entypo-fontello' color='custom' custom_bg='#b5123e' cus
 tom_font='#ffffff' av_uid='' id='' custom_class='' admin_preview_bg='']</p>
CATEGORIES:Europäisches / Internationales Recht
LOCATION:Ausland
GEO:0.000000;0.000000
ORGANIZER;CN="ViFa-Recht":MAILTO:vifa-recht@sbb.spk-berlin.de
URL;VALUE=URI:https://events.intrecht.de/termine/termin/multilateralism-int
 ernational-institutions-and-the-ethics-of-war-workshop/
END:VEVENT
BEGIN:VTIMEZONE
TZID:Europe/Berlin
BEGIN:STANDARD
TZOFFSETFROM:+0200
TZOFFSETTO:+0100
DTSTART:20261025T010000
TZNAME:CET
END:STANDARD
END:VTIMEZONE
END:VCALENDAR
