BEGIN:VCALENDAR
VERSION:2.0
PRODID:-//Events | FID-Recht//NONSGML Events//EN
CALSCALE:GREGORIAN
X-ORIGINAL-URL:https://events.intrecht.de/termine/
X-WR-CALDESC:Events | FID-Recht - Events
BEGIN:VEVENT
UID:20230131T2326Z-1675207603.2801-EO-7993-1@172.16.200.151
STATUS:CONFIRMED
DTSTAMP:20260421T183541Z
CREATED:20230116T103253Z
LAST-MODIFIED:20230116T103253Z
DTSTART;VALUE=DATE:20230124
DTEND;VALUE=DATE:20230125
SUMMARY: MPI-TAU Transnational Legal History Workshop: Limping Marriages: R
 ace\, Class\, and Divorce Jurisdiction in the British Empire
DESCRIPTION: 24.1.2023 / Online https://www.lhlt.mpg.de/events/33117/207770
 1  
X-ALT-DESC;FMTTYPE=text/html: <p>24.1.2023 / Online</p><p><a href="https://
 www.lhlt.mpg.de/events/33117/2077701">https://www.lhlt.mpg.de/events/33117/
 2077701</a></p><p> </p><p>[av_button label='iCal-Export' link='./feed/eo-ev
 ents' link_target='' size='small' position='center' label_display='' title_
 attr='' icon_select='yes' icon='ue85b' font='entypo-fontello' color='custom
 ' custom_bg='#b5123e' custom_font='#ffffff' av_uid='' id='' custom_class=''
  admin_preview_bg='']</p>
CATEGORIES:Recht interdisziplinär
LOCATION:Online
GEO:0.000000;0.000000
ORGANIZER;CN="ViFa-Recht":MAILTO:vifa-recht@sbb.spk-berlin.de
URL;VALUE=URI:https://events.intrecht.de/termine/termin/mpi-tau-transnation
 al-legal-history-workshop-limping-marriages-race-class-and-divorce-jurisdic
 tion-in-the-british-empire/
END:VEVENT
BEGIN:VTIMEZONE
TZID:Europe/Berlin
BEGIN:STANDARD
TZOFFSETFROM:+0200
TZOFFSETTO:+0100
DTSTART:20221030T010000
TZNAME:CET
END:STANDARD
END:VTIMEZONE
END:VCALENDAR
