BEGIN:VCALENDAR
VERSION:2.0
PRODID:-//Events | FID-Recht//NONSGML Events//EN
CALSCALE:GREGORIAN
X-ORIGINAL-URL:https://events.intrecht.de/termine/
X-WR-CALDESC:Events | FID-Recht - Events
BEGIN:VEVENT
UID:20200603T1418Z-1591193923.3362-EO-587-1@172.16.200.141
STATUS:CONFIRMED
DTSTAMP:20260423T040927Z
CREATED:20230810T092452Z
LAST-MODIFIED:20230810T092519Z
DTSTART;VALUE=DATE:20230913
DTEND;VALUE=DATE:20230914
SUMMARY: Movie Time: legal historical reflections from the ‘Global South‘
DESCRIPTION: 13.9.2023 / Frankfurt am Main https://www.lhlt.mpg.de/events/3
 5057/2077701
X-ALT-DESC;FMTTYPE=text/html: <p>13.9.2023 / Frankfurt am Main</p><p><a hre
 f="https://www.lhlt.mpg.de/events/35057/2077701">https://www.lhlt.mpg.de/ev
 ents/35057/2077701</a></p><p>[av_button label='iCal-Export' link='./feed/eo
 -events' link_target='' size='small' position='center' label_display='' tit
 le_attr='' icon_select='yes' icon='ue85b' font='entypo-fontello' color='cus
 tom' custom_bg='#b5123e' custom_font='#ffffff' av_uid='' id='' custom_class
 ='' admin_preview_bg='']</p>
CATEGORIES:Recht interdisziplinär
LOCATION:Inland
GEO:0.000000;0.000000
ORGANIZER;CN="ViFa-Recht":MAILTO:vifa-recht@sbb.spk-berlin.de
URL;VALUE=URI:https://events.intrecht.de/termine/termin/movie-time-legal-hi
 storical-reflections-from-the-global-south/
END:VEVENT
BEGIN:VTIMEZONE
TZID:Europe/Berlin
BEGIN:DAYLIGHT
TZOFFSETFROM:+0100
TZOFFSETTO:+0200
DTSTART:20230326T010000
TZNAME:CEST
END:DAYLIGHT
END:VTIMEZONE
END:VCALENDAR
