BEGIN:VCALENDAR
VERSION:2.0
PRODID:-//Events | FID-Recht//NONSGML Events//EN
CALSCALE:GREGORIAN
X-ORIGINAL-URL:https://events.intrecht.de/termine/
X-WR-CALDESC:Events | FID-Recht - Events
BEGIN:VEVENT
UID:20200603T1418Z-1591193923.3362-EO-587-1@172.16.200.141
STATUS:CONFIRMED
DTSTAMP:20260425T132223Z
CREATED:20230222T105138Z
LAST-MODIFIED:20230222T105312Z
DTSTART;VALUE=DATE:20230605
DTEND;VALUE=DATE:20230610
SUMMARY: Movement(s) (Workshop)
DESCRIPTION: 5.-9.6.2023 / Luzern https://www.unilu.ch/en/faculties/faculty
 -of-law/institutes-academies-research-centres/institute-for-interdisciplina
 ry-legal-studies-lucernaiuris/critical-times-law-humanities-critique/moveme
 nts/#tab=c132131
X-ALT-DESC;FMTTYPE=text/html: <p>5.-9.6.2023 / Luzern</p><p><a href="https:
 //www.unilu.ch/en/faculties/faculty-of-law/institutes-academies-research-ce
 ntres/institute-for-interdisciplinary-legal-studies-lucernaiuris/critical-t
 imes-law-humanities-critique/movements/#tab=c132131">https://www.unilu.ch/e
 n/faculties/faculty-of-law/institutes-academies-research-centres/institute-
 for-interdisciplinary-legal-studies-lucernaiuris/critical-times-law-humanit
 ies-critique/movements/#tab=c132131</a></p><p>[av_button label='iCal-Export
 ' link='./feed/eo-events' link_target='' size='small' position='center' lab
 el_display='' title_attr='' icon_select='yes' icon='ue85b' font='entypo-fon
 tello' color='custom' custom_bg='#b5123e' custom_font='#ffffff' av_uid='' i
 d='' custom_class='' admin_preview_bg='']</p>
CATEGORIES:Recht interdisziplinär
LOCATION:Ausland
GEO:0.000000;0.000000
ORGANIZER;CN="ViFa-Recht":MAILTO:vifa-recht@sbb.spk-berlin.de
URL;VALUE=URI:https://events.intrecht.de/termine/termin/movements-workshop/
END:VEVENT
BEGIN:VTIMEZONE
TZID:Europe/Berlin
BEGIN:DAYLIGHT
TZOFFSETFROM:+0100
TZOFFSETTO:+0200
DTSTART:20230326T010000
TZNAME:CEST
END:DAYLIGHT
END:VTIMEZONE
END:VCALENDAR
