BEGIN:VCALENDAR
VERSION:2.0
PRODID:-//Events | FID-Recht//NONSGML Events//EN
CALSCALE:GREGORIAN
X-ORIGINAL-URL:https://events.intrecht.de/termine/
X-WR-CALDESC:Events | FID-Recht - Events
BEGIN:VEVENT
UID:20200603T1418Z-1591193923.3362-EO-587-1@172.16.200.141
STATUS:CONFIRMED
DTSTAMP:20260422T192723Z
CREATED:20240925T162406Z
LAST-MODIFIED:20240925T162406Z
DTSTART;VALUE=DATE:20241028
DTEND;VALUE=DATE:20241029
SUMMARY: Motherhood as a Choice? Reflections on Abortion and Surrogacy in t
 he Case-law of the European Court of Human Rights (Vortrag)
DESCRIPTION: 28.10.2024 / Zürich https://www.humanreproduction.uzh.ch/en/Ne
 ws-and-Events/Events/Motherhood_Choice_281024.html
X-ALT-DESC;FMTTYPE=text/html: <p>28.10.2024 / Zürich</p><p><a href="https:/
 /www.humanreproduction.uzh.ch/en/News-and-Events/Events/Motherhood_Choice_2
 81024.html">https://www.humanreproduction.uzh.ch/en/News-and-Events/Events/
 Motherhood_Choice_281024.html</a></p><p>[av_button label='iCal-Export' link
 ='./feed/eo-events' link_target='' size='small' position='center' label_dis
 play='' title_attr='' icon_select='yes' icon='ue85b' font='entypo-fontello'
  color='custom' custom_bg='#b5123e' custom_font='#ffffff' av_uid='' id='' c
 ustom_class='' admin_preview_bg='']</p>
CATEGORIES:Europäisches / Internationales Recht
LOCATION:Ausland
GEO:0.000000;0.000000
ORGANIZER;CN="ViFa-Recht":MAILTO:vifa-recht@sbb.spk-berlin.de
URL;VALUE=URI:https://events.intrecht.de/termine/termin/motherhood-as-a-cho
 ice-reflections-on-abortion-and-surrogacy-in-the-case-law-of-the-european-c
 ourt-of-human-rights-vortrag/
END:VEVENT
BEGIN:VTIMEZONE
TZID:Europe/Berlin
BEGIN:DAYLIGHT
TZOFFSETFROM:+0100
TZOFFSETTO:+0200
DTSTART:20240331T010000
TZNAME:CEST
END:DAYLIGHT
BEGIN:STANDARD
TZOFFSETFROM:+0200
TZOFFSETTO:+0100
DTSTART:20241027T010000
TZNAME:CET
END:STANDARD
END:VTIMEZONE
END:VCALENDAR
