BEGIN:VCALENDAR
VERSION:2.0
PRODID:-//Events | FID-Recht//NONSGML Events//EN
CALSCALE:GREGORIAN
X-ORIGINAL-URL:https://events.intrecht.de/termine/
X-WR-CALDESC:Events | FID-Recht - Events
BEGIN:VEVENT
UID:20200603T1418Z-1591193923.3362-EO-587-1@172.16.200.141
STATUS:CONFIRMED
DTSTAMP:20260422T112111Z
CREATED:20200925T180618Z
LAST-MODIFIED:20200925T180618Z
DTSTART;VALUE=DATE:20210429
DTEND;VALUE=DATE:20210501
SUMMARY: Mixed Arbitral Tribunals\, 1919–1930: An Experiment in the Interna
 tional Adjudication of Private Rights (Konferenz)
DESCRIPTION: NEUER TERMIN:  29.-30.4.2021\, Luxemburg https://www.mpi.lu/ne
 ws-and-events/2020/october/22-23/mixed-arbitral-tribunals-1919-1930-an-expe
 riment-in-the-international-adjudication-of-private-Rights/  
X-ALT-DESC;FMTTYPE=text/html: <p><strong>NEUER TERMIN: </strong></p><p>29.-
 30.4.2021\, Luxemburg</p><p><a href="https://www.mpi.lu/news-and-events/202
 0/october/22-23/mixed-arbitral-tribunals-1919-1930-an-experiment-in-the-int
 ernational-adjudication-of-private-rights/">https://www.mpi.lu/news-and-eve
 nts/2020/october/22-23/mixed-arbitral-tribunals-1919-1930-an-experiment-in-
 the-international-adjudication-of-private-Rights/</a></p><p> </p><p>[av_but
 ton label='iCal-Export' link='./feed/eo-events' link_target='' size='small'
  position='center' label_display='' title_attr='' icon_select='yes' icon='u
 e85b' font='entypo-fontello' color='custom' custom_bg='#b5123e' custom_font
 ='#ffffff' av_uid='' id='' custom_class='' admin_preview_bg='']</p>
CATEGORIES:Europäisches / Internationales Recht,Zivilrecht
LOCATION:Ausland
GEO:0.000000;0.000000
ORGANIZER;CN="ViFa-Recht":MAILTO:vifa-recht@sbb.spk-berlin.de
URL;VALUE=URI:https://events.intrecht.de/termine/termin/mixed-arbitral-trib
 unals-1919-1930-an-experiment-in-the-international-adjudication-of-private-
 rights-konferenz-2/
END:VEVENT
BEGIN:VTIMEZONE
TZID:Europe/Berlin
BEGIN:DAYLIGHT
TZOFFSETFROM:+0100
TZOFFSETTO:+0200
DTSTART:20210328T010000
TZNAME:CEST
END:DAYLIGHT
END:VTIMEZONE
END:VCALENDAR
