BEGIN:VCALENDAR
VERSION:2.0
PRODID:-//Events | FID-Recht//NONSGML Events//EN
CALSCALE:GREGORIAN
X-ORIGINAL-URL:https://events.intrecht.de/termine/
X-WR-CALDESC:Events | FID-Recht - Events
BEGIN:VEVENT
UID:20200603T1418Z-1591193923.3362-EO-587-1@172.16.200.141
STATUS:CONFIRMED
DTSTAMP:20260425T162514Z
CREATED:20250623T075850Z
LAST-MODIFIED:20250623T075850Z
DTSTART;VALUE=DATE:20250714
DTEND;VALUE=DATE:20250716
SUMMARY: Minority Law in Arab States – Governing Religious Diversity (Confe
 rence)
DESCRIPTION: 14.-15.7.2025 / Hamburg https://events.mpipriv.de/b?p=minority
 _law_in_arab_states
X-ALT-DESC;FMTTYPE=text/html: <p>14.-15.7.2025 / Hamburg</p><p><a href="htt
 ps://events.mpipriv.de/b?p=minority_law_in_arab_states">https://events.mpip
 riv.de/b?p=minority_law_in_arab_states</a></p><p>[av_button label='iCal-Exp
 ort' link='./feed/eo-events' link_target='' size='small' position='center' 
 label_display='' title_attr='' icon_select='yes' icon='ue85b' font='entypo-
 fontello' color='custom' custom_bg='#b5123e' custom_font='#ffffff' av_uid='
 ' id='' custom_class='' admin_preview_bg='']</p>
CATEGORIES:Zivilrecht
LOCATION:Inland
GEO:0.000000;0.000000
ORGANIZER;CN="ViFa-Recht":MAILTO:vifa-recht@sbb.spk-berlin.de
URL;VALUE=URI:https://events.intrecht.de/termine/termin/minority-law-in-ara
 b-states-governing-religious-diversity-conference/
END:VEVENT
BEGIN:VTIMEZONE
TZID:Europe/Berlin
BEGIN:DAYLIGHT
TZOFFSETFROM:+0100
TZOFFSETTO:+0200
DTSTART:20250330T010000
TZNAME:CEST
END:DAYLIGHT
END:VTIMEZONE
END:VCALENDAR
