BEGIN:VCALENDAR
VERSION:2.0
PRODID:-//Events | FID-Recht//NONSGML Events//EN
CALSCALE:GREGORIAN
X-ORIGINAL-URL:https://events.intrecht.de/termine/
X-WR-CALDESC:Events | FID-Recht - Events
BEGIN:VEVENT
UID:20220610T1355Z-1654869313.3871-EO-4079-1@172.16.200.151
STATUS:CONFIRMED
DTSTAMP:20260425T212012Z
CREATED:20220609T174505Z
LAST-MODIFIED:20220609T174505Z
DTSTART;VALUE=DATE:20220609
DTEND;VALUE=DATE:20220612
SUMMARY: Minorities in Imperial Space – Between Equality and the Promotion 
 of Difference (Tagung)
DESCRIPTION: 9.-11.6.2022\, Berlin “Minorities in Imperial Space” Between E
 quality and the Promotion of Difference | Leibniz-Zentrum Moderner Orient (
 ZMO)  
X-ALT-DESC;FMTTYPE=text/html: <p>9.-11.6.2022\, Berlin</p><p><a href="https
 ://www.zmo.de/veranstaltungen/minorities-in-imperial-space-between-equality
 -and-the-promotion-of-difference">“Minorities in Imperial Space” Between Eq
 uality and the Promotion of Difference | Leibniz-Zentrum Moderner Orient (Z
 MO)</a></p><p> </p><p>[av_button label='iCal-Export' link='./feed/eo-events
 ' link_target='' size='small' position='center' label_display='' title_attr
 ='' icon_select='yes' icon='ue85b' font='entypo-fontello' color='custom' cu
 stom_bg='#b5123e' custom_font='#ffffff' av_uid='' id='' custom_class='' adm
 in_preview_bg='']</p>
CATEGORIES:Recht interdisziplinär
LOCATION:Inland
GEO:0.000000;0.000000
ORGANIZER;CN="ViFa-Recht":MAILTO:vifa-recht@sbb.spk-berlin.de
URL;VALUE=URI:https://events.intrecht.de/termine/termin/minorities-in-imper
 ial-space-between-equality-and-the-promotion-of-difference-tagung/
END:VEVENT
BEGIN:VTIMEZONE
TZID:Europe/Berlin
BEGIN:DAYLIGHT
TZOFFSETFROM:+0100
TZOFFSETTO:+0200
DTSTART:20220327T010000
TZNAME:CEST
END:DAYLIGHT
END:VTIMEZONE
END:VCALENDAR
