BEGIN:VCALENDAR
VERSION:2.0
PRODID:-//Events | FID-Recht//NONSGML Events//EN
CALSCALE:GREGORIAN
X-ORIGINAL-URL:https://events.intrecht.de/termine/
X-WR-CALDESC:Events | FID-Recht - Events
BEGIN:VEVENT
UID:20200616T2133Z-1592343203.657-EO-743-1@172.16.200.141
STATUS:CONFIRMED
DTSTAMP:20260421T133435Z
CREATED:20200602T190142Z
LAST-MODIFIED:20200602T190142Z
DTSTART;VALUE=DATE:20200618
DTEND;VALUE=DATE:20200620
SUMMARY: Minorities and Self-determination – 100th Anniversary of the Post-
 World War I Plebiscites (Konferenz)
DESCRIPTION: 3.-4.6.2021\, Flensburg https://www.ecmi.de/events/conference-
 2020  
X-ALT-DESC;FMTTYPE=text/html: <p><span style="display: inline !important\; 
 float: none\; background-color: #ffffff\; color: #333333\; cursor: text\; f
 ont-family: Georgia\,'Times New Roman'\,'Bitstream Charter'\,Times\,serif\;
  font-size: 16px\; font-style: normal\; font-variant: normal\; font-weight:
  400\; letter-spacing: normal\; orphans: 2\; text-align: left\; text-decora
 tion: none\; text-indent: 0px\; text-transform: none\; -webkit-text-stroke-
 width: 0px\; white-space: normal\; word-spacing: 0px\;">3.-4.6.2021</span>\
 , Flensburg</p><p><a href="https://www.ecmi.de/events/conference-2020">http
 s://www.ecmi.de/events/conference-2020</a></p><p> </p><p>[av_button label='
 iCal-Export' link='./feed/eo-events' link_target='' size='small' position='
 center' label_display='' title_attr='' icon_select='yes' icon='ue85b' font=
 'entypo-fontello' color='custom' custom_bg='#b5123e' custom_font='#ffffff' 
 av_uid='' id='' custom_class='' admin_preview_bg='']</p>
CATEGORIES:Europäisches / Internationales Recht,Öffentliches Recht,Recht interdisziplinär
LOCATION:Inland
GEO:0.000000;0.000000
ORGANIZER;CN="ViFa-Recht":MAILTO:vifa-recht@sbb.spk-berlin.de
URL;VALUE=URI:https://events.intrecht.de/termine/termin/minorities-and-self
 -determination-100th-anniversary-of-the-post-world-war-i-plebiscites-konfer
 enz/
END:VEVENT
BEGIN:VTIMEZONE
TZID:Europe/Berlin
BEGIN:DAYLIGHT
TZOFFSETFROM:+0100
TZOFFSETTO:+0200
DTSTART:20200329T010000
TZNAME:CEST
END:DAYLIGHT
END:VTIMEZONE
END:VCALENDAR
