BEGIN:VCALENDAR
VERSION:2.0
PRODID:-//Events | FID-Recht//NONSGML Events//EN
CALSCALE:GREGORIAN
X-ORIGINAL-URL:https://events.intrecht.de/termine/
X-WR-CALDESC:Events | FID-Recht - Events
BEGIN:VEVENT
UID:20200603T1418Z-1591193923.3362-EO-587-1@172.16.200.141
STATUS:CONFIRMED
DTSTAMP:20260423T020747Z
CREATED:20250218T090648Z
LAST-MODIFIED:20250218T090648Z
DTSTART;VALUE=DATE:20250630
DTEND;VALUE=DATE:20250701
SUMMARY: Migration Law in Times of Polarization (Work-In-Progress-Workshop)
DESCRIPTION: 30.6.2025 / Wien (Einreichungsfrist: 16.3.2025) https://staats
 recht.univie.ac.at/fileadmin/user_upload/i_staatsrecht/Farahat-VCML/VCML_Ca
 ll_for_Abstracts_final.pdf
X-ALT-DESC;FMTTYPE=text/html: <p>30.6.2025 / Wien <strong>(Einreichungsfris
 t: 16.3.2025)</strong></p><p><a href="https://staatsrecht.univie.ac.at/file
 admin/user_upload/i_staatsrecht/Farahat-VCML/VCML_Call_for_Abstracts_final.
 pdf">https://staatsrecht.univie.ac.at/fileadmin/user_upload/i_staatsrecht/F
 arahat-VCML/VCML_Call_for_Abstracts_final.pdf</a></p><p>[av_button label='i
 Cal-Export' link='./feed/eo-events' link_target='' size='small' position='c
 enter' label_display='' title_attr='' icon_select='yes' icon='ue85b' font='
 entypo-fontello' color='custom' custom_bg='#b5123e' custom_font='#ffffff' a
 v_uid='' id='' custom_class='' admin_preview_bg='']</p>
CATEGORIES:Recht interdisziplinär
LOCATION:Ausland
GEO:0.000000;0.000000
ORGANIZER;CN="ViFa-Recht":MAILTO:vifa-recht@sbb.spk-berlin.de
URL;VALUE=URI:https://events.intrecht.de/termine/termin/migration-law-in-ti
 mes-of-polarization-work-in-progress-workshop/
END:VEVENT
BEGIN:VTIMEZONE
TZID:Europe/Berlin
BEGIN:DAYLIGHT
TZOFFSETFROM:+0100
TZOFFSETTO:+0200
DTSTART:20250330T010000
TZNAME:CEST
END:DAYLIGHT
END:VTIMEZONE
END:VCALENDAR
