BEGIN:VCALENDAR
VERSION:2.0
PRODID:-//Events | FID-Recht//NONSGML Events//EN
CALSCALE:GREGORIAN
X-ORIGINAL-URL:https://events.intrecht.de/termine/
X-WR-CALDESC:Events | FID-Recht - Events
BEGIN:VEVENT
UID:20200603T1418Z-1591193923.3362-EO-587-1@172.16.200.141
STATUS:CONFIRMED
DTSTAMP:20260423T084659Z
CREATED:20250117T150016Z
LAST-MODIFIED:20250117T150016Z
DTSTART;VALUE=DATE:20250121
DTEND;VALUE=DATE:20250122
SUMMARY: Migration\, Epistemic Injustice and Differentiated Rights: It’s no
 t You\, It’s Your Passport! (Vortrag)
DESCRIPTION: 21.1.2025 / Berlin https://www.sowi.hu-berlin.de/en/research-a
 nd-teaching-areas/political-theory/events/politics-lecture-series-esma-bayc
 an-herzog-geneva-migration-epistemic-injustice-and-differentiated-rights-21
 -01.2025
X-ALT-DESC;FMTTYPE=text/html: <p>21.1.2025 / Berlin</p><p><a href="https://
 www.sowi.hu-berlin.de/en/research-and-teaching-areas/political-theory/event
 s/politics-lecture-series-esma-baycan-herzog-geneva-migration-epistemic-inj
 ustice-and-differentiated-rights-21-01.2025">https://www.sowi.hu-berlin.de/
 en/research-and-teaching-areas/political-theory/events/politics-lecture-ser
 ies-esma-baycan-herzog-geneva-migration-epistemic-injustice-and-differentia
 ted-rights-21-01.2025</a></p><p>[av_button label='iCal-Export' link='./feed
 /eo-events' link_target='' size='small' position='center' label_display='' 
 title_attr='' icon_select='yes' icon='ue85b' font='entypo-fontello' color='
 custom' custom_bg='#b5123e' custom_font='#ffffff' av_uid='' id='' custom_cl
 ass='' admin_preview_bg='']</p>
CATEGORIES:Recht interdisziplinär
LOCATION:Inland
GEO:0.000000;0.000000
ORGANIZER;CN="ViFa-Recht":MAILTO:vifa-recht@sbb.spk-berlin.de
URL;VALUE=URI:https://events.intrecht.de/termine/termin/migration-epistemic
 -injustice-and-differentiated-rights-its-not-you-its-your-passport-vortrag/
END:VEVENT
BEGIN:VTIMEZONE
TZID:Europe/Berlin
BEGIN:STANDARD
TZOFFSETFROM:+0200
TZOFFSETTO:+0100
DTSTART:20241027T010000
TZNAME:CET
END:STANDARD
END:VTIMEZONE
END:VCALENDAR
