BEGIN:VCALENDAR
VERSION:2.0
PRODID:-//Events | FID-Recht//NONSGML Events//EN
CALSCALE:GREGORIAN
X-ORIGINAL-URL:https://events.intrecht.de/termine/
X-WR-CALDESC:Events | FID-Recht - Events
BEGIN:VEVENT
UID:20220416T0859Z-1650099574.9413-EO-6644-1@172.16.200.141
STATUS:CONFIRMED
DTSTAMP:20260421T102419Z
CREATED:20220405T114202Z
LAST-MODIFIED:20220405T114202Z
DTSTART;VALUE=DATE:20220512
DTEND;VALUE=DATE:20220512
SUMMARY: Migration and Asylum Policy Systems (MAPS) ((Online-) Tagung) (Anm
 eldefrist)
DESCRIPTION: 19.-20.5.2022\, Neapel/Online (Anmeldefrist: 12.5.2022) Migrat
 ion and Asylum Policy Systems – Völkerrechtsblog (voelkerrechtsblog.org)  
X-ALT-DESC;FMTTYPE=text/html: <p>19.-20.5.2022\, Neapel/Online (Anmeldefris
 t: 12.5.2022)</p><p><a href="https://voelkerrechtsblog.org/events/migration
 -and-asylum-policy-systems/">Migration and Asylum Policy Systems - Völkerre
 chtsblog (voelkerrechtsblog.org)</a></p><p> </p><p>[av_button label='iCal-E
 xport' link='./feed/eo-events' link_target='' size='small' position='center
 ' label_display='' title_attr='' icon_select='yes' icon='ue85b' font='entyp
 o-fontello' color='custom' custom_bg='#b5123e' custom_font='#ffffff' av_uid
 ='' id='' custom_class='' admin_preview_bg='']</p>
CATEGORIES:Europäisches / Internationales Recht,Öffentliches Recht
LOCATION:Online
GEO:0.000000;0.000000
ORGANIZER;CN="ViFa-Recht":MAILTO:vifa-recht@sbb.spk-berlin.de
URL;VALUE=URI:https://events.intrecht.de/termine/termin/migration-and-asylu
 m-policy-systems-maps-online-tagung-anmeldefrist/
END:VEVENT
BEGIN:VTIMEZONE
TZID:Europe/Berlin
BEGIN:DAYLIGHT
TZOFFSETFROM:+0100
TZOFFSETTO:+0200
DTSTART:20220327T010000
TZNAME:CEST
END:DAYLIGHT
END:VTIMEZONE
END:VCALENDAR
