BEGIN:VCALENDAR
VERSION:2.0
PRODID:-//Events | FID-Recht//NONSGML Events//EN
CALSCALE:GREGORIAN
X-ORIGINAL-URL:https://events.intrecht.de/termine/
X-WR-CALDESC:Events | FID-Recht - Events
BEGIN:VEVENT
UID:20200603T1418Z-1591193923.3362-EO-587-1@172.16.200.141
STATUS:CONFIRMED
DTSTAMP:20260423T021524Z
CREATED:20241002T154710Z
LAST-MODIFIED:20241002T154710Z
DTSTART;VALUE=DATE:20250520
DTEND;VALUE=DATE:20250522
SUMMARY: Migrantinnen und Migranten mit Ausreisepflicht: Empirische Erkennt
 nisse und methodische Ansätze (Abschlusskonferenz des MIMAP-Forschungsproje
 kts)
DESCRIPTION: 20.-21.5.2025 / Nürnberg (Einreichungsfrist: 30.11.2024) https
 ://www.juwiss.de/wp-content/uploads/2024/09/mimap-konferenz.pdf
X-ALT-DESC;FMTTYPE=text/html: <p>20.-21.5.2025 / Nürnberg <strong>(Einreich
 ungsfrist: 30.11.2024)</strong></p><p><a href="https://www.juwiss.de/wp-con
 tent/uploads/2024/09/mimap-konferenz.pdf">https://www.juwiss.de/wp-content/
 uploads/2024/09/mimap-konferenz.pdf</a></p><p>[av_button label='iCal-Export
 ' link='./feed/eo-events' link_target='' size='small' position='center' lab
 el_display='' title_attr='' icon_select='yes' icon='ue85b' font='entypo-fon
 tello' color='custom' custom_bg='#b5123e' custom_font='#ffffff' av_uid='' i
 d='' custom_class='' admin_preview_bg='']</p>
CATEGORIES:Öffentliches Recht
LOCATION:Inland
GEO:0.000000;0.000000
ORGANIZER;CN="ViFa-Recht":MAILTO:vifa-recht@sbb.spk-berlin.de
URL;VALUE=URI:https://events.intrecht.de/termine/termin/migrantinnen-und-mi
 granten-mit-ausreisepflicht-empirische-erkenntnisse-und-methodische-ansaetz
 e-abschlusskonferenz-des-mimap-forschungsprojekts/
END:VEVENT
BEGIN:VTIMEZONE
TZID:Europe/Berlin
BEGIN:DAYLIGHT
TZOFFSETFROM:+0100
TZOFFSETTO:+0200
DTSTART:20250330T010000
TZNAME:CEST
END:DAYLIGHT
END:VTIMEZONE
END:VCALENDAR
