BEGIN:VCALENDAR
VERSION:2.0
PRODID:-//Events | FID-Recht//NONSGML Events//EN
CALSCALE:GREGORIAN
X-ORIGINAL-URL:https://events.intrecht.de/termine/
X-WR-CALDESC:Events | FID-Recht - Events
BEGIN:VEVENT
UID:20230420T1533Z-1682004803.0501-EO-12764-1@172.16.200.151
STATUS:CONFIRMED
DTSTAMP:20260425T144123Z
CREATED:20230209T151900Z
LAST-MODIFIED:20230209T151900Z
DTSTART;VALUE=DATE:20231102
DTEND;VALUE=DATE:20231106
SUMMARY: Middle East Studies Association Annual Meeting 2023
DESCRIPTION: 2.-5.11.2023 / Montréal https://mesana.org/annual-meeting/call
 -for-papers  
X-ALT-DESC;FMTTYPE=text/html: <p>2.-5.11.2023 / Montréal</p><p><a href="htt
 ps://mesana.org/annual-meeting/call-for-papers">https://mesana.org/annual-m
 eeting/call-for-papers</a></p><p> </p><p>[av_button label='iCal-Export' lin
 k='./feed/eo-events' link_target='' size='small' position='center' label_di
 splay='' title_attr='' icon_select='yes' icon='ue85b' font='entypo-fontello
 ' color='custom' custom_bg='#b5123e' custom_font='#ffffff' av_uid='' id='' 
 custom_class='' admin_preview_bg='']</p>
CATEGORIES:Recht interdisziplinär
LOCATION:Ausland
GEO:0.000000;0.000000
ORGANIZER;CN="ViFa-Recht":MAILTO:vifa-recht@sbb.spk-berlin.de
URL;VALUE=URI:https://events.intrecht.de/termine/termin/middle-east-studies
 -association-annual-meeting-2023/
END:VEVENT
BEGIN:VTIMEZONE
TZID:Europe/Berlin
BEGIN:STANDARD
TZOFFSETFROM:+0200
TZOFFSETTO:+0100
DTSTART:20231029T010000
TZNAME:CET
END:STANDARD
END:VTIMEZONE
END:VCALENDAR
