BEGIN:VCALENDAR
VERSION:2.0
PRODID:-//Events | FID-Recht//NONSGML Events//EN
CALSCALE:GREGORIAN
X-ORIGINAL-URL:https://events.intrecht.de/termine/
X-WR-CALDESC:Events | FID-Recht - Events
BEGIN:VEVENT
UID:20200603T1418Z-1591193923.3362-EO-587-1@172.16.200.141
STATUS:CONFIRMED
DTSTAMP:20260422T125229Z
CREATED:20240523T162512Z
LAST-MODIFIED:20240523T162512Z
DTSTART;VALUE=DATE:20240529
DTEND;VALUE=DATE:20240530
SUMMARY: Mexico v Ecuador/Ecuador v Mexico: With Diplomatic Asylum Back bef
 ore the ICJ\, Can Legal Certainty on this Divisive Issue Finally be Won? (H
 ybrid Event / Völkerrechtliche Tagesthemen)
DESCRIPTION: 29.5.2024 / Online und Kiel https://www.uni-kiel.de/de/jura/fo
 rschung/wsi/veranstaltungen/voelkerrechtliche-tagesthemen
X-ALT-DESC;FMTTYPE=text/html: <p>29.5.2024 / Online und Kiel</p><p><a href=
 "https://www.uni-kiel.de/de/jura/forschung/wsi/veranstaltungen/voelkerrecht
 liche-tagesthemen">https://www.uni-kiel.de/de/jura/forschung/wsi/veranstalt
 ungen/voelkerrechtliche-tagesthemen</a></p><p>[av_button label='iCal-Export
 ' link='./feed/eo-events' link_target='' size='small' position='center' lab
 el_display='' title_attr='' icon_select='yes' icon='ue85b' font='entypo-fon
 tello' color='custom' custom_bg='#b5123e' custom_font='#ffffff' av_uid='' i
 d='' custom_class='' admin_preview_bg='']</p>
CATEGORIES:Europäisches / Internationales Recht
LOCATION:Hybrid
GEO:0.000000;0.000000
ORGANIZER;CN="ViFa-Recht":MAILTO:vifa-recht@sbb.spk-berlin.de
URL;VALUE=URI:https://events.intrecht.de/termine/termin/mexico-v-ecuador-ec
 uador-v-mexico-with-diplomatic-asylum-back-before-the-icj-can-legal-certain
 ty-on-this-divisive-issue-finally-be-won-hybrid-event-voelkerrechtliche-tag
 esthemen/
END:VEVENT
BEGIN:VTIMEZONE
TZID:Europe/Berlin
BEGIN:DAYLIGHT
TZOFFSETFROM:+0100
TZOFFSETTO:+0200
DTSTART:20240331T010000
TZNAME:CEST
END:DAYLIGHT
END:VTIMEZONE
END:VCALENDAR
