BEGIN:VCALENDAR
VERSION:2.0
PRODID:-//Events | FID-Recht//NONSGML Events//EN
CALSCALE:GREGORIAN
X-ORIGINAL-URL:https://events.intrecht.de/termine/
X-WR-CALDESC:Events | FID-Recht - Events
BEGIN:VEVENT
UID:20211104T1243Z-1636029811.8393-EO-4926-1@172.16.200.141
STATUS:CONFIRMED
DTSTAMP:20260425T162717Z
CREATED:20211102T094442Z
LAST-MODIFIED:20220303T141428Z
DTSTART;VALUE=DATE:20211130
DTEND;VALUE=DATE:20211201
SUMMARY: Methodological Pluralism in European Law – First Max Planck Law Co
 nference for Young European Scholars (Tagung) (CfP)
DESCRIPTION: 31.3.-1.4.2022\, Luxemburg – NEUER TERMIN: 14.-15.7.2022 (Fris
 t für Einreichungen: 30.11.2021) https://www.mpi.lu/news-and-events/upcomin
 g-events/detail/detail/methodological-pluralism-in-european-law-first-max-p
 lanck-law-conference-for-young-european-schola/    
X-ALT-DESC;FMTTYPE=text/html: <p>31.3.-1.4.2022\, Luxemburg - NEUER TERMIN:
  14.-15.7.2022 (Frist für Einreichungen: 30.11.2021)</p><p><a href="https:/
 /www.mpi.lu/news-and-events/upcoming-events/detail/detail/methodological-pl
 uralism-in-european-law-first-max-planck-law-conference-for-young-european-
 schola/">https://www.mpi.lu/news-and-events/upcoming-events/detail/detail/m
 ethodological-pluralism-in-european-law-first-max-planck-law-conference-for
 -young-european-schola/</a></p><p> </p><p> </p><p>[av_button label='iCal-Ex
 port' link='./feed/eo-events' link_target='' size='small' position='center'
  label_display='' title_attr='' icon_select='yes' icon='ue85b' font='entypo
 -fontello' color='custom' custom_bg='#b5123e' custom_font='#ffffff' av_uid=
 '' id='' custom_class='' admin_preview_bg='']</p>
CATEGORIES:Europäisches / Internationales Recht
LOCATION:Ausland
GEO:0.000000;0.000000
ORGANIZER;CN="ViFa-Recht":MAILTO:vifa-recht@sbb.spk-berlin.de
URL;VALUE=URI:https://events.intrecht.de/termine/termin/methodological-plur
 alism-in-european-law-first-max-planck-law-conference-for-young-european-sc
 holars-tagung-cfp/
END:VEVENT
BEGIN:VTIMEZONE
TZID:Europe/Berlin
BEGIN:STANDARD
TZOFFSETFROM:+0200
TZOFFSETTO:+0100
DTSTART:20211031T010000
TZNAME:CET
END:STANDARD
END:VTIMEZONE
END:VCALENDAR
