BEGIN:VCALENDAR
VERSION:2.0
PRODID:-//Events | FID-Recht//NONSGML Events//EN
CALSCALE:GREGORIAN
X-ORIGINAL-URL:https://events.intrecht.de/termine/
X-WR-CALDESC:Events | FID-Recht - Events
BEGIN:VEVENT
UID:20210108T0820Z-1610094051.6105-EO-2993-1@172.16.200.141
STATUS:CONFIRMED
DTSTAMP:20260421T133852Z
CREATED:20201230T171256Z
LAST-MODIFIED:20201230T171256Z
DTSTART;VALUE=DATE:20210111
DTEND;VALUE=DATE:20210111
SUMMARY: Merchants and Law – Early Modern England and North America (Common
  Law Research Seminar with Pierre Gervais) (Online-Vortrag)
DESCRIPTION: 11.1.2021\, Online https://www.rg.mpg.de/2312042/event-21-01-1
 1-Merchants-and-Law-Early-Modern-England-and-North-America.html  
X-ALT-DESC;FMTTYPE=text/html: <p>11.1.2021\, Online</p><p><a href="https://
 www.rg.mpg.de/2312042/event-21-01-11-Merchants-and-Law-Early-Modern-England
 -and-North-America.html">https://www.rg.mpg.de/2312042/event-21-01-11-Merch
 ants-and-Law-Early-Modern-England-and-North-America.html</a></p><p> </p><p>
 [av_button label='iCal-Export' link='./feed/eo-events' link_target='' size=
 'small' position='center' label_display='' title_attr='' icon_select='yes' 
 icon='ue85b' font='entypo-fontello' color='custom' custom_bg='#b5123e' cust
 om_font='#ffffff' av_uid='' id='' custom_class='' admin_preview_bg='']</p>
CATEGORIES:Recht interdisziplinär
LOCATION:Online
GEO:0.000000;0.000000
ORGANIZER;CN="ViFa-Recht":MAILTO:vifa-recht@sbb.spk-berlin.de
URL;VALUE=URI:https://events.intrecht.de/termine/termin/merchants-and-law-e
 arly-modern-england-and-north-america-common-law-research-seminar-with-pier
 re-gervais-online-vortrag/
END:VEVENT
BEGIN:VTIMEZONE
TZID:Europe/Berlin
BEGIN:STANDARD
TZOFFSETFROM:+0200
TZOFFSETTO:+0100
DTSTART:20201025T010000
TZNAME:CET
END:STANDARD
END:VTIMEZONE
END:VCALENDAR
