BEGIN:VCALENDAR
VERSION:2.0
PRODID:-//Events | FID-Recht//NONSGML Events//EN
CALSCALE:GREGORIAN
X-ORIGINAL-URL:https://events.intrecht.de/termine/
X-WR-CALDESC:Events | FID-Recht - Events
BEGIN:VEVENT
UID:20230418T1243Z-1681821783.5285-EO-8277-1@172.16.200.151
STATUS:CONFIRMED
DTSTAMP:20260423T083329Z
CREATED:20230207T092241Z
LAST-MODIFIED:20230207T092241Z
DTSTART;VALUE=DATE:20230221
DTEND;VALUE=DATE:20230222
SUMMARY: Mercator Talk zur Ausstellung der Portraitserie: „I am not a victi
 m\, I am a survivor“
DESCRIPTION: 21.2.2023 / Berlin https://www.stiftung-mercator.de/de/veranst
 altungen/  
X-ALT-DESC;FMTTYPE=text/html: <p>21.2.2023 / Berlin</p><p><a href="https://
 www.stiftung-mercator.de/de/veranstaltungen/">https://www.stiftung-mercator
 .de/de/veranstaltungen/</a></p><p> </p><p>[av_button label='iCal-Export' li
 nk='./feed/eo-events' link_target='' size='small' position='center' label_d
 isplay='' title_attr='' icon_select='yes' icon='ue85b' font='entypo-fontell
 o' color='custom' custom_bg='#b5123e' custom_font='#ffffff' av_uid='' id=''
  custom_class='' admin_preview_bg='']</p>
CATEGORIES:Recht interdisziplinär
LOCATION:Inland
GEO:0.000000;0.000000
ORGANIZER;CN="ViFa-Recht":MAILTO:vifa-recht@sbb.spk-berlin.de
URL;VALUE=URI:https://events.intrecht.de/termine/termin/mercator-talk-zur-a
 usstellung-der-portraitserie-i-am-not-a-victim-i-am-a-survivor/
END:VEVENT
BEGIN:VTIMEZONE
TZID:Europe/Berlin
BEGIN:STANDARD
TZOFFSETFROM:+0200
TZOFFSETTO:+0100
DTSTART:20221030T010000
TZNAME:CET
END:STANDARD
END:VTIMEZONE
END:VCALENDAR
