BEGIN:VCALENDAR
VERSION:2.0
PRODID:-//Events | FID-Recht//NONSGML Events//EN
CALSCALE:GREGORIAN
X-ORIGINAL-URL:https://events.intrecht.de/termine/
X-WR-CALDESC:Events | FID-Recht - Events
BEGIN:VEVENT
UID:20201104T1608Z-1604506133.0794-EO-2064-1@172.16.200.141
STATUS:CONFIRMED
DTSTAMP:20260425T132726Z
CREATED:20201103T183106Z
LAST-MODIFIED:20201103T183106Z
DTSTART;VALUE=DATE:20201118
DTEND;VALUE=DATE:20201118
SUMMARY: Menschenrechte und Klimawandel (9. Potsdamer MenschenRechtsTag) (O
 nline-Tagung)
DESCRIPTION: 18.11.2020\, Online https://www.uni-potsdam.de/de/mrz/veransta
 ltungen-und-kooperationen/kommende-veranstaltungen/9-potsdamer-menschenrech
 tstag-menschenrechte-und-klimawandel  
X-ALT-DESC;FMTTYPE=text/html: <p>18.11.2020\, Online</p><p><a href="https:/
 /www.uni-potsdam.de/de/mrz/veranstaltungen-und-kooperationen/kommende-veran
 staltungen/9-potsdamer-menschenrechtstag-menschenrechte-und-klimawandel">ht
 tps://www.uni-potsdam.de/de/mrz/veranstaltungen-und-kooperationen/kommende-
 veranstaltungen/9-potsdamer-menschenrechtstag-menschenrechte-und-klimawande
 l</a></p><p> </p><p>[av_button label='iCal-Export' link='./feed/eo-events' 
 link_target='' size='small' position='center' label_display='' title_attr='
 ' icon_select='yes' icon='ue85b' font='entypo-fontello' color='custom' cust
 om_bg='#b5123e' custom_font='#ffffff' av_uid='' id='' custom_class='' admin
 _preview_bg='']</p>
CATEGORIES:Europäisches / Internationales Recht,Öffentliches Recht
LOCATION:Online
GEO:0.000000;0.000000
ORGANIZER;CN="ViFa-Recht":MAILTO:vifa-recht@sbb.spk-berlin.de
URL;VALUE=URI:https://events.intrecht.de/termine/termin/menschenrechte-und-
 klimawandel-9-potsdamer-menschenrechtstag-online-tagung/
END:VEVENT
BEGIN:VTIMEZONE
TZID:Europe/Berlin
BEGIN:STANDARD
TZOFFSETFROM:+0200
TZOFFSETTO:+0100
DTSTART:20201025T010000
TZNAME:CET
END:STANDARD
END:VTIMEZONE
END:VCALENDAR
