BEGIN:VCALENDAR
VERSION:2.0
PRODID:-//Events | FID-Recht//NONSGML Events//EN
CALSCALE:GREGORIAN
X-ORIGINAL-URL:https://events.intrecht.de/termine/
X-WR-CALDESC:Events | FID-Recht - Events
BEGIN:VEVENT
UID:20220329T0132Z-1648517541.3776-EO-6057-1@172.16.200.141
STATUS:CONFIRMED
DTSTAMP:20260422T034250Z
CREATED:20220322T135706Z
LAST-MODIFIED:20220322T135706Z
DTSTART;VALUE=DATE:20220404
DTEND;VALUE=DATE:20220405
SUMMARY: Menschenrechte in der Antike (mit Martin Avenarius) (Vortrag)
DESCRIPTION: 4.4.2022\, Köln Academy for European Human Rights Protection: 
 Ringvorlesung – Menschenrechte als Alpha und Omega des Rechts? (uni-koeln.d
 e)  
X-ALT-DESC;FMTTYPE=text/html: <p>4.4.2022\, Köln</p><p><a href="https://aca
 demy-humanrights.uni-koeln.de/lehre/lehrveranstaltungen/ringvorlesung-mensc
 henrechte-als-alpha-und-omega-des-rechts">Academy for European Human Rights
  Protection: Ringvorlesung - Menschenrechte als Alpha und Omega des Rechts?
  (uni-koeln.de)</a></p><p> </p><p>[av_button label='iCal-Export' link='./fe
 ed/eo-events' link_target='' size='small' position='center' label_display='
 ' title_attr='' icon_select='yes' icon='ue85b' font='entypo-fontello' color
 ='custom' custom_bg='#b5123e' custom_font='#ffffff' av_uid='' id='' custom_
 class='' admin_preview_bg='']</p>
CATEGORIES:Europäisches / Internationales Recht,Öffentliches Recht,Recht interdisziplinär
LOCATION:Inland
GEO:0.000000;0.000000
ORGANIZER;CN="ViFa-Recht":MAILTO:vifa-recht@sbb.spk-berlin.de
URL;VALUE=URI:https://events.intrecht.de/termine/termin/menschenrechte-in-d
 er-antike-mit-martin-avenarius-vortrag/
END:VEVENT
BEGIN:VTIMEZONE
TZID:Europe/Berlin
BEGIN:DAYLIGHT
TZOFFSETFROM:+0100
TZOFFSETTO:+0200
DTSTART:20220327T010000
TZNAME:CEST
END:DAYLIGHT
END:VTIMEZONE
END:VCALENDAR
