BEGIN:VCALENDAR
VERSION:2.0
PRODID:-//Events | FID-Recht//NONSGML Events//EN
CALSCALE:GREGORIAN
X-ORIGINAL-URL:https://events.intrecht.de/termine/
X-WR-CALDESC:Events | FID-Recht - Events
BEGIN:VEVENT
UID:20220402T2151Z-1648936293.4847-EO-6422-1@172.16.200.141
STATUS:CONFIRMED
DTSTAMP:20260421T151459Z
CREATED:20220331T104117Z
LAST-MODIFIED:20220331T104117Z
DTSTART;VALUE=DATE:20220411
DTEND;VALUE=DATE:20220411
SUMMARY: Menschenrechte auf der Grundlage der EMRK und der EuGrCh (mit Bern
 hard Kempen) (Vortrag)
DESCRIPTION: 11.4.2022\, Köln Academy for European Human Rights Protection:
  Ringvorlesung – Menschenrechte als Alpha und Omega des Rechts? (uni-koeln.
 de)    
X-ALT-DESC;FMTTYPE=text/html: <p>11.4.2022\, Köln</p><p><a href="https://ac
 ademy-humanrights.uni-koeln.de/lehre/lehrveranstaltungen/ringvorlesung-mens
 chenrechte-als-alpha-und-omega-des-rechts">Academy for European Human Right
 s Protection: Ringvorlesung - Menschenrechte als Alpha und Omega des Rechts
 ? (uni-koeln.de)</a></p><p> </p><p> </p><p>[av_button label='iCal-Export' l
 ink='./feed/eo-events' link_target='' size='small' position='center' label_
 display='' title_attr='' icon_select='yes' icon='ue85b' font='entypo-fontel
 lo' color='custom' custom_bg='#b5123e' custom_font='#ffffff' av_uid='' id='
 ' custom_class='' admin_preview_bg='']</p>
CATEGORIES:Europäisches / Internationales Recht
LOCATION:Inland
GEO:0.000000;0.000000
ORGANIZER;CN="ViFa-Recht":MAILTO:vifa-recht@sbb.spk-berlin.de
URL;VALUE=URI:https://events.intrecht.de/termine/termin/menschenrechte-auf-
 der-grundlage-der-emrk-und-der-eugrch-mit-bernhard-kempen-vortrag/
END:VEVENT
BEGIN:VTIMEZONE
TZID:Europe/Berlin
BEGIN:DAYLIGHT
TZOFFSETFROM:+0100
TZOFFSETTO:+0200
DTSTART:20220327T010000
TZNAME:CEST
END:DAYLIGHT
END:VTIMEZONE
END:VCALENDAR
