BEGIN:VCALENDAR
VERSION:2.0
PRODID:-//Events | FID-Recht//NONSGML Events//EN
CALSCALE:GREGORIAN
X-ORIGINAL-URL:https://events.intrecht.de/termine/
X-WR-CALDESC:Events | FID-Recht - Events
BEGIN:VEVENT
UID:20200603T1418Z-1591193923.3362-EO-587-1@172.16.200.141
STATUS:CONFIRMED
DTSTAMP:20260425T151122Z
CREATED:20230703T150751Z
LAST-MODIFIED:20230703T150751Z
DTSTART;VALUE=DATE:20240320
DTEND;VALUE=DATE:20240323
SUMMARY: Meinungsfreiheit: Transformation und Regulierung politischer Öffen
 tlichkeiten (Interdisziplinärer Workshop)
DESCRIPTION: 20.-22.3.2024 / Berlin (Frist für Einreichungen: 30.9.2023) ht
 tps://www.wiko-berlin.de/fileadmin/Dateien_Redakteure/pdf/Workshops/CfP_Bla
 nkensee.pdf
X-ALT-DESC;FMTTYPE=text/html: <p>20.-22.3.2024 / Berlin <strong>(Frist für 
 Einreichungen: 30.9.2023)</strong></p><p><a href="https://www.wiko-berlin.d
 e/fileadmin/Dateien_Redakteure/pdf/Workshops/CfP_Blankensee.pdf">https://ww
 w.wiko-berlin.de/fileadmin/Dateien_Redakteure/pdf/Workshops/CfP_Blankensee.
 pdf</a></p><p>[av_button label='iCal-Export' link='./feed/eo-events' link_t
 arget='' size='small' position='center' label_display='' title_attr='' icon
 _select='yes' icon='ue85b' font='entypo-fontello' color='custom' custom_bg=
 '#b5123e' custom_font='#ffffff' av_uid='' id='' custom_class='' admin_previ
 ew_bg='']</p>
CATEGORIES:Recht interdisziplinär
LOCATION:Inland
GEO:0.000000;0.000000
ORGANIZER;CN="ViFa-Recht":MAILTO:vifa-recht@sbb.spk-berlin.de
URL;VALUE=URI:https://events.intrecht.de/termine/termin/meinungsfreiheit-tr
 ansformation-und-regulierung-politischer-oeffentlichkeiten-interdisziplinae
 rer-workshop/
END:VEVENT
BEGIN:VTIMEZONE
TZID:Europe/Berlin
BEGIN:STANDARD
TZOFFSETFROM:+0200
TZOFFSETTO:+0100
DTSTART:20231029T010000
TZNAME:CET
END:STANDARD
END:VTIMEZONE
END:VCALENDAR
