BEGIN:VCALENDAR
VERSION:2.0
PRODID:-//Events | FID-Recht//NONSGML Events//EN
CALSCALE:GREGORIAN
X-ORIGINAL-URL:https://events.intrecht.de/termine/
X-WR-CALDESC:Events | FID-Recht - Events
BEGIN:VEVENT
UID:20200603T1418Z-1591193923.3362-EO-587-1@172.16.200.141
STATUS:CONFIRMED
DTSTAMP:20260422T192603Z
CREATED:20240111T134624Z
LAST-MODIFIED:20240111T134624Z
DTSTART;VALUE=DATE:20240129
DTEND;VALUE=DATE:20240130
SUMMARY: Mehrfach diskriminiert: Ältere Frauen ohne Menschenrechte? (Tagung
 )
DESCRIPTION: 29.1.2024 / Berlin (Anmeldefrist: 27.1.2024) https://www.insti
 tut-fuer-menschenrechte.de/veranstaltungen/detail/mehrfach-diskriminiert-ae
 ltere-frauen-ohne-menschenrechte
X-ALT-DESC;FMTTYPE=text/html: <p>29.1.2024 / Berlin <strong>(Anmeldefrist: 
 27.1.2024)</strong></p><p><a href="https://www.institut-fuer-menschenrechte
 .de/veranstaltungen/detail/mehrfach-diskriminiert-aeltere-frauen-ohne-mensc
 henrechte">https://www.institut-fuer-menschenrechte.de/veranstaltungen/deta
 il/mehrfach-diskriminiert-aeltere-frauen-ohne-menschenrechte</a></p><p>[av_
 button label='iCal-Export' link='./feed/eo-events' link_target='' size='sma
 ll' position='center' label_display='' title_attr='' icon_select='yes' icon
 ='ue85b' font='entypo-fontello' color='custom' custom_bg='#b5123e' custom_f
 ont='#ffffff' av_uid='' id='' custom_class='' admin_preview_bg='']</p>
CATEGORIES:Recht interdisziplinär
LOCATION:Inland
GEO:0.000000;0.000000
ORGANIZER;CN="ViFa-Recht":MAILTO:vifa-recht@sbb.spk-berlin.de
URL;VALUE=URI:https://events.intrecht.de/termine/termin/mehrfach-diskrimini
 ert-aeltere-frauen-ohne-menschenrechte-tagung/
END:VEVENT
BEGIN:VTIMEZONE
TZID:Europe/Berlin
BEGIN:STANDARD
TZOFFSETFROM:+0200
TZOFFSETTO:+0100
DTSTART:20231029T010000
TZNAME:CET
END:STANDARD
END:VTIMEZONE
END:VCALENDAR
