BEGIN:VCALENDAR
VERSION:2.0
PRODID:-//Events | FID-Recht//NONSGML Events//EN
CALSCALE:GREGORIAN
X-ORIGINAL-URL:https://events.intrecht.de/termine/
X-WR-CALDESC:Events | FID-Recht - Events
BEGIN:VEVENT
UID:20201108T1734Z-1604856850.5446-EO-2164-1@172.16.200.141
STATUS:CONFIRMED
DTSTAMP:20260421T102732Z
CREATED:20201105T193557Z
LAST-MODIFIED:20201105T193557Z
DTSTART;VALUE=DATE:20201119
DTEND;VALUE=DATE:20201119
SUMMARY: Medienaufsichtliche Plattform- und Intermediärregulierung in Deuts
 chland: Chance\, Hybris oder Symbolpolitik? (mit Matthias Cornils) (Online-
 Vortrag)
DESCRIPTION: 19.11.2020\, Online https://www.normativeorders.net/de/compone
 nt/content/article/79-uncategorised/7816-frankfurter-kolloquium-fuer-intern
 etforschung-x    
X-ALT-DESC;FMTTYPE=text/html: <p>19.11.2020\, Online</p><p><a href="https:/
 /www.normativeorders.net/de/component/content/article/79-uncategorised/7816
 -frankfurter-kolloquium-fuer-internetforschung-x">https://www.normativeorde
 rs.net/de/component/content/article/79-uncategorised/7816-frankfurter-kollo
 quium-fuer-internetforschung-x</a></p><p><strong> </strong></p><p> </p><p>[
 av_button label='iCal-Export' link='./feed/eo-events' link_target='' size='
 small' position='center' label_display='' title_attr='' icon_select='yes' i
 con='ue85b' font='entypo-fontello' color='custom' custom_bg='#b5123e' custo
 m_font='#ffffff' av_uid='' id='' custom_class='' admin_preview_bg='']</p>
CATEGORIES:Recht interdisziplinär
LOCATION:Online
GEO:0.000000;0.000000
ORGANIZER;CN="ViFa-Recht":MAILTO:vifa-recht@sbb.spk-berlin.de
URL;VALUE=URI:https://events.intrecht.de/termine/termin/medienaufsichtliche
 -plattform-und-intermediaerregulierung-in-deutschland-chance-hybris-oder-sy
 mbolpolitik-mit-matthias-cornils-online-vortrag/
END:VEVENT
BEGIN:VTIMEZONE
TZID:Europe/Berlin
BEGIN:STANDARD
TZOFFSETFROM:+0200
TZOFFSETTO:+0100
DTSTART:20201025T010000
TZNAME:CET
END:STANDARD
END:VTIMEZONE
END:VCALENDAR
